BEGIN:VCALENDAR
VERSION:2.0
PRODID:-//NADI Serdang - ECPv6.15.20//NONSGML v1.0//EN
CALSCALE:GREGORIAN
METHOD:PUBLISH
X-WR-CALNAME:NADI Serdang
X-ORIGINAL-URL:https://serdang.nadi.my
X-WR-CALDESC:Events for NADI Serdang
REFRESH-INTERVAL;VALUE=DURATION:PT1H
X-Robots-Tag:noindex
X-PUBLISHED-TTL:PT1H
BEGIN:VTIMEZONE
TZID:Asia/Kuala_Lumpur
BEGIN:STANDARD
TZOFFSETFROM:+0800
TZOFFSETTO:+0800
TZNAME:+08
DTSTART:20250101T000000
END:STANDARD
END:VTIMEZONE
BEGIN:VEVENT
DTSTART;TZID=Asia/Kuala_Lumpur:20260205T153000
DTEND;TZID=Asia/Kuala_Lumpur:20260205T163000
DTSTAMP:20260419T204821
CREATED:20260205T041328Z
LAST-MODIFIED:20260205T041622Z
UID:9259-1770305400-1770309000@serdang.nadi.my
SUMMARY:OPEN LIVE CLASS TUITION BAHASA MELAYU TINGKATAN 1-5
DESCRIPTION:
URL:https://serdang.nadi.my/event/open-live-class-tuition-matematik-tingkatan-1-5/
END:VEVENT
BEGIN:VEVENT
DTSTART;TZID=Asia/Kuala_Lumpur:20260206T140000
DTEND;TZID=Asia/Kuala_Lumpur:20260206T170000
DTSTAMP:20260419T204821
CREATED:20260206T021046Z
LAST-MODIFIED:20260206T021046Z
UID:9280-1770386400-1770397200@serdang.nadi.my
SUMMARY:NADI PRENEUR : RAKAMAN WEBINAR PEMASARAN
DESCRIPTION:
URL:https://serdang.nadi.my/event/nadi-preneur-rakaman-webinar-pemasaran/
END:VEVENT
BEGIN:VEVENT
DTSTART;TZID=Asia/Kuala_Lumpur:20260206T153000
DTEND;TZID=Asia/Kuala_Lumpur:20260206T163000
DTSTAMP:20260419T204821
CREATED:20260205T041553Z
LAST-MODIFIED:20260205T041553Z
UID:9262-1770391800-1770395400@serdang.nadi.my
SUMMARY:OPEN LIVE CLASS TUITION MATEMATIK TINGKATAN 1-5
DESCRIPTION:
URL:https://serdang.nadi.my/event/open-live-class-tuition-matematik-tingkatan-1-5-2/
END:VEVENT
BEGIN:VEVENT
DTSTART;TZID=Asia/Kuala_Lumpur:20260209T153000
DTEND;TZID=Asia/Kuala_Lumpur:20260209T163000
DTSTAMP:20260419T204821
CREATED:20260205T041709Z
LAST-MODIFIED:20260205T041709Z
UID:9265-1770651000-1770654600@serdang.nadi.my
SUMMARY:OPEN LIVE CLASS TUITION SEJARAH TINGKATAN 1-5
DESCRIPTION:
URL:https://serdang.nadi.my/event/open-live-class-tuition-sejarah-tingkatan-1-5/
END:VEVENT
BEGIN:VEVENT
DTSTART;TZID=Asia/Kuala_Lumpur:20260210T140000
DTEND;TZID=Asia/Kuala_Lumpur:20260210T170000
DTSTAMP:20260419T204821
CREATED:20260206T021145Z
LAST-MODIFIED:20260206T021145Z
UID:9282-1770732000-1770742800@serdang.nadi.my
SUMMARY:NADI PRENEUR : VIDEO PRA LATIHAN OPERASI PERNIAGAAN
DESCRIPTION:
URL:https://serdang.nadi.my/event/nadi-preneur-video-pra-latihan-operasi-perniagaan/
END:VEVENT
BEGIN:VEVENT
DTSTART;TZID=Asia/Kuala_Lumpur:20260212T100000
DTEND;TZID=Asia/Kuala_Lumpur:20260212T120000
DTSTAMP:20260419T204821
CREATED:20260206T021649Z
LAST-MODIFIED:20260206T021649Z
UID:9284-1770890400-1770897600@serdang.nadi.my
SUMMARY:NADI PRENEUR : LIVE WEBINAR OPERASI PERNIAGAAN
DESCRIPTION:
URL:https://serdang.nadi.my/event/nadi-preneur-live-webinar-operasi-perniagaan/
END:VEVENT
BEGIN:VEVENT
DTSTART;TZID=Asia/Kuala_Lumpur:20260212T153000
DTEND;TZID=Asia/Kuala_Lumpur:20260212T163000
DTSTAMP:20260419T204821
CREATED:20260205T041802Z
LAST-MODIFIED:20260205T041802Z
UID:9267-1770910200-1770913800@serdang.nadi.my
SUMMARY:OPEN LIVE CLASS TUITION SAINS TINGKATAN 1-5
DESCRIPTION:
URL:https://serdang.nadi.my/event/open-live-class-tuition-sains-tingkatan-1-5/
END:VEVENT
BEGIN:VEVENT
DTSTART;TZID=Asia/Kuala_Lumpur:20260216T153000
DTEND;TZID=Asia/Kuala_Lumpur:20260216T163000
DTSTAMP:20260419T204821
CREATED:20260205T041959Z
LAST-MODIFIED:20260205T041959Z
UID:9269-1771255800-1771259400@serdang.nadi.my
SUMMARY:OPEN LIVE CLASS TUITION MATEMATIK TINGKATAN 1-5
DESCRIPTION:
URL:https://serdang.nadi.my/event/open-live-class-tuition-matematik-tingkatan-1-5-3/
END:VEVENT
BEGIN:VEVENT
DTSTART;TZID=Asia/Kuala_Lumpur:20260223T153000
DTEND;TZID=Asia/Kuala_Lumpur:20260223T163000
DTSTAMP:20260419T204821
CREATED:20260205T042443Z
LAST-MODIFIED:20260205T042443Z
UID:9275-1771860600-1771864200@serdang.nadi.my
SUMMARY:OPEN LIVE CLASS TUITION SEJARAH TINGKATAN 1-5
DESCRIPTION:
URL:https://serdang.nadi.my/event/open-live-class-tuition-sejarah-tingkatan-1-5-2/
END:VEVENT
BEGIN:VEVENT
DTSTART;TZID=Asia/Kuala_Lumpur:20260224T153000
DTEND;TZID=Asia/Kuala_Lumpur:20260224T163000
DTSTAMP:20260419T204821
CREATED:20260205T042055Z
LAST-MODIFIED:20260205T042055Z
UID:9271-1771947000-1771950600@serdang.nadi.my
SUMMARY:OPEN LIVE CLASS TUITION BAHASA INGGERIS TINGKATAN 1-5
DESCRIPTION:
URL:https://serdang.nadi.my/event/open-live-class-tuition-bahasa-inggeris-tingkatan-1-5/
END:VEVENT
BEGIN:VEVENT
DTSTART;TZID=Asia/Kuala_Lumpur:20260226T153000
DTEND;TZID=Asia/Kuala_Lumpur:20260226T163000
DTSTAMP:20260419T204821
CREATED:20260205T042532Z
LAST-MODIFIED:20260205T042532Z
UID:9277-1772119800-1772123400@serdang.nadi.my
SUMMARY:OPEN LIVE CLASS TUITION SAINS TINGKATAN 1-5
DESCRIPTION:
URL:https://serdang.nadi.my/event/open-live-class-tuition-sains-tingkatan-1-5-2/
END:VEVENT
BEGIN:VEVENT
DTSTART;TZID=Asia/Kuala_Lumpur:20260227T153000
DTEND;TZID=Asia/Kuala_Lumpur:20260227T163000
DTSTAMP:20260419T204821
CREATED:20260205T042359Z
LAST-MODIFIED:20260205T042359Z
UID:9273-1772206200-1772209800@serdang.nadi.my
SUMMARY:OPEN LIVE CLASS TUITION BAHASA MELAYU TINGKATAN 1-5
DESCRIPTION:
URL:https://serdang.nadi.my/event/open-live-class-tuition-bahasa-melayu-tingkatan-1-5/
END:VEVENT
END:VCALENDAR