BEGIN:VCALENDAR
VERSION:2.0
PRODID:-//NADI Serdang - ECPv6.15.20//NONSGML v1.0//EN
CALSCALE:GREGORIAN
METHOD:PUBLISH
X-WR-CALNAME:NADI Serdang
X-ORIGINAL-URL:https://serdang.nadi.my
X-WR-CALDESC:Events for NADI Serdang
REFRESH-INTERVAL;VALUE=DURATION:PT1H
X-Robots-Tag:noindex
X-PUBLISHED-TTL:PT1H
BEGIN:VTIMEZONE
TZID:Asia/Kuala_Lumpur
BEGIN:STANDARD
TZOFFSETFROM:+0800
TZOFFSETTO:+0800
TZNAME:+08
DTSTART:20250101T000000
END:STANDARD
END:VTIMEZONE
BEGIN:VEVENT
DTSTART;TZID=Asia/Kuala_Lumpur:20260103T143000
DTEND;TZID=Asia/Kuala_Lumpur:20260103T163000
DTSTAMP:20260426T024157
CREATED:20260101T071732Z
LAST-MODIFIED:20260101T071732Z
UID:9200-1767450600-1767457800@serdang.nadi.my
SUMMARY:WEBINAR BERKALA SAINS – EDISI 1
DESCRIPTION:
URL:https://serdang.nadi.my/event/webinar-berkala-sains-edisi-1/
END:VEVENT
BEGIN:VEVENT
DTSTART;TZID=Asia/Kuala_Lumpur:20260104T080000
DTEND;TZID=Asia/Kuala_Lumpur:20260104T170000
DTSTAMP:20260426T024157
CREATED:20260101T071644Z
LAST-MODIFIED:20260101T072120Z
UID:9198-1767513600-1767546000@serdang.nadi.my
SUMMARY:DILEA- REVISION VIDEO ON DEMAND
DESCRIPTION:VIDEO ON DEMAND (VOD)\nRakaman penuh Guidance Tuition\, Open Tuition & Webinar boleh diakses mengikut jadual.
URL:https://serdang.nadi.my/event/dilea-evition-video-on-demand/
END:VEVENT
BEGIN:VEVENT
DTSTART;TZID=Asia/Kuala_Lumpur:20260104T153000
DTEND;TZID=Asia/Kuala_Lumpur:20260104T163000
DTSTAMP:20260426T024157
CREATED:20260101T072757Z
LAST-MODIFIED:20260101T072757Z
UID:9212-1767540600-1767544200@serdang.nadi.my
SUMMARY:DILEA - GUIDANCE TUITION LIVE CLASS TINGKATAN 4 (MATEMATIK)
DESCRIPTION:
URL:https://serdang.nadi.my/event/dilea-guidance-tuition-live-class-tingkatan-4-matematik/
END:VEVENT
BEGIN:VEVENT
DTSTART;TZID=Asia/Kuala_Lumpur:20260105T153000
DTEND;TZID=Asia/Kuala_Lumpur:20260105T163000
DTSTAMP:20260426T024157
CREATED:20260101T072854Z
LAST-MODIFIED:20260101T072854Z
UID:9214-1767627000-1767630600@serdang.nadi.my
SUMMARY:DILEA - GUIDANCE TUITION LIVE CLASS TINGKATAN 4 (BAHASA MELAYU)
DESCRIPTION:
URL:https://serdang.nadi.my/event/dilea-guidance-tuition-live-class-tingkatan-4-bahasa-melayu/
END:VEVENT
BEGIN:VEVENT
DTSTART;TZID=Asia/Kuala_Lumpur:20260106T153000
DTEND;TZID=Asia/Kuala_Lumpur:20260106T163000
DTSTAMP:20260426T024157
CREATED:20260101T072935Z
LAST-MODIFIED:20260101T072935Z
UID:9216-1767713400-1767717000@serdang.nadi.my
SUMMARY:DILEA - GUIDANCE TUITION LIVE CLASS TINGKATAN 4 (SEJARAH)
DESCRIPTION:
URL:https://serdang.nadi.my/event/dilea-guidance-tuition-live-class-tingkatan-4-sejarah/
END:VEVENT
BEGIN:VEVENT
DTSTART;TZID=Asia/Kuala_Lumpur:20260108T153000
DTEND;TZID=Asia/Kuala_Lumpur:20260108T163000
DTSTAMP:20260426T024157
CREATED:20260101T073004Z
LAST-MODIFIED:20260101T073004Z
UID:9218-1767886200-1767889800@serdang.nadi.my
SUMMARY:DILEA - GUIDANCE TUITION LIVE CLASS TINGKATAN 4 (BAHASA INGGERIS)
DESCRIPTION:
URL:https://serdang.nadi.my/event/dilea-guidance-tuition-live-class-tingkatan-4-bahasa-inggeris/
END:VEVENT
BEGIN:VEVENT
DTSTART;TZID=Asia/Kuala_Lumpur:20260111T080000
DTEND;TZID=Asia/Kuala_Lumpur:20260111T170000
DTSTAMP:20260426T024157
CREATED:20260101T072157Z
LAST-MODIFIED:20260101T072157Z
UID:9204-1768118400-1768150800@serdang.nadi.my
SUMMARY:DILEA- REVISION VIDEO ON DEMAND -23
DESCRIPTION:
URL:https://serdang.nadi.my/event/dilea-revision-video-on-demand-23/
END:VEVENT
BEGIN:VEVENT
DTSTART;TZID=Asia/Kuala_Lumpur:20260116T080000
DTEND;TZID=Asia/Kuala_Lumpur:20260116T170000
DTSTAMP:20260426T024157
CREATED:20260101T072217Z
LAST-MODIFIED:20260101T072217Z
UID:9206-1768550400-1768582800@serdang.nadi.my
SUMMARY:DILEA- REVISION VIDEO ON DEMAND-24
DESCRIPTION:
URL:https://serdang.nadi.my/event/dilea-revision-video-on-demand-24/
END:VEVENT
BEGIN:VEVENT
DTSTART;TZID=Asia/Kuala_Lumpur:20260125T080000
DTEND;TZID=Asia/Kuala_Lumpur:20260125T170000
DTSTAMP:20260426T024157
CREATED:20260101T072245Z
LAST-MODIFIED:20260101T072245Z
UID:9208-1769328000-1769360400@serdang.nadi.my
SUMMARY:DILEA- REVISION VIDEO ON DEMAND - 25
DESCRIPTION:
URL:https://serdang.nadi.my/event/dilea-revision-video-on-demand-25/
END:VEVENT
BEGIN:VEVENT
DTSTART;TZID=Asia/Kuala_Lumpur:20260131T080000
DTEND;TZID=Asia/Kuala_Lumpur:20260131T170000
DTSTAMP:20260426T024157
CREATED:20260101T072402Z
LAST-MODIFIED:20260101T072402Z
UID:9210-1769846400-1769878800@serdang.nadi.my
SUMMARY:DILEA- REVISION VIDEO ON DEMAND -26
DESCRIPTION:
URL:https://serdang.nadi.my/event/dilea-revision-video-on-demand-26/
END:VEVENT
END:VCALENDAR