BEGIN:VCALENDAR
VERSION:2.0
PRODID:-//NADI Serdang - ECPv6.15.20//NONSGML v1.0//EN
CALSCALE:GREGORIAN
METHOD:PUBLISH
X-WR-CALNAME:NADI Serdang
X-ORIGINAL-URL:https://serdang.nadi.my
X-WR-CALDESC:Events for NADI Serdang
REFRESH-INTERVAL;VALUE=DURATION:PT1H
X-Robots-Tag:noindex
X-PUBLISHED-TTL:PT1H
BEGIN:VTIMEZONE
TZID:Asia/Kuala_Lumpur
BEGIN:STANDARD
TZOFFSETFROM:+0800
TZOFFSETTO:+0800
TZNAME:+08
DTSTART:20240101T000000
END:STANDARD
END:VTIMEZONE
BEGIN:VEVENT
DTSTART;TZID=Asia/Kuala_Lumpur:20251101T090000
DTEND;TZID=Asia/Kuala_Lumpur:20251101T170000
DTSTAMP:20260423T194448
CREATED:20251101T020916Z
LAST-MODIFIED:20251101T020916Z
UID:9050-1761987600-1762016400@serdang.nadi.my
SUMMARY:E-SPORTS- STATE LEVEL TOURNAMENT : GROUP STAGE
DESCRIPTION:
URL:https://serdang.nadi.my/event/e-sports-state-level-tournament-group-stage/
END:VEVENT
BEGIN:VEVENT
DTSTART;TZID=Asia/Kuala_Lumpur:20251103T080000
DTEND;TZID=Asia/Kuala_Lumpur:20251109T170000
DTSTAMP:20260423T194448
CREATED:20251101T042802Z
LAST-MODIFIED:20251101T042802Z
UID:9053-1762156800-1762707600@serdang.nadi.my
SUMMARY:ENGLISH PROFICIENCY LESSON 18
DESCRIPTION:
URL:https://serdang.nadi.my/event/english-proficiency-lesson-18/
END:VEVENT
BEGIN:VEVENT
DTSTART;TZID=Asia/Kuala_Lumpur:20251110T153000
DTEND;TZID=Asia/Kuala_Lumpur:20251110T163000
DTSTAMP:20260423T194448
CREATED:20251110T040119Z
LAST-MODIFIED:20251110T040119Z
UID:9062-1762788600-1762792200@serdang.nadi.my
SUMMARY:OPEN LIVE CLASS SEJARAH
DESCRIPTION:
URL:https://serdang.nadi.my/event/open-live-class-sejarah/
END:VEVENT
BEGIN:VEVENT
DTSTART;TZID=Asia/Kuala_Lumpur:20251113T153000
DTEND;TZID=Asia/Kuala_Lumpur:20251113T163000
DTSTAMP:20260423T194448
CREATED:20251110T040152Z
LAST-MODIFIED:20251110T040152Z
UID:9064-1763047800-1763051400@serdang.nadi.my
SUMMARY:OPEN LIVE CLASS SAINS
DESCRIPTION:
URL:https://serdang.nadi.my/event/open-live-class-sains-2/
END:VEVENT
BEGIN:VEVENT
DTSTART;TZID=Asia/Kuala_Lumpur:20251117T080000
DTEND;TZID=Asia/Kuala_Lumpur:20251123T170000
DTSTAMP:20260423T194448
CREATED:20251101T042857Z
LAST-MODIFIED:20251101T042857Z
UID:9055-1763366400-1763917200@serdang.nadi.my
SUMMARY:ENGLISH PROFICIENCY LESSON 19
DESCRIPTION:
URL:https://serdang.nadi.my/event/english-proficiency-lesson-19/
END:VEVENT
BEGIN:VEVENT
DTSTART;TZID=Asia/Kuala_Lumpur:20251117T153000
DTEND;TZID=Asia/Kuala_Lumpur:20251117T163000
DTSTAMP:20260423T194448
CREATED:20251110T040306Z
LAST-MODIFIED:20251110T040306Z
UID:9066-1763393400-1763397000@serdang.nadi.my
SUMMARY:OPEN LIVE CLASS MATEMATIK
DESCRIPTION:
URL:https://serdang.nadi.my/event/open-live-class-matematik/
END:VEVENT
BEGIN:VEVENT
DTSTART;TZID=Asia/Kuala_Lumpur:20251118T153000
DTEND;TZID=Asia/Kuala_Lumpur:20251118T163000
DTSTAMP:20260423T194448
CREATED:20251110T040428Z
LAST-MODIFIED:20251110T040428Z
UID:9068-1763479800-1763483400@serdang.nadi.my
SUMMARY:OPEN LIVE CLASS BAHASA INGGERIS
DESCRIPTION:
URL:https://serdang.nadi.my/event/open-live-class-bahasa-inggeris/
END:VEVENT
BEGIN:VEVENT
DTSTART;TZID=Asia/Kuala_Lumpur:20251120T153000
DTEND;TZID=Asia/Kuala_Lumpur:20251120T163000
DTSTAMP:20260423T194448
CREATED:20251110T040517Z
LAST-MODIFIED:20251110T040550Z
UID:9070-1763652600-1763656200@serdang.nadi.my
SUMMARY:OPEN LIVE CLASS BAHASA MELAYU
DESCRIPTION:
URL:https://serdang.nadi.my/event/open-live-class-bahasa-melayu/
END:VEVENT
BEGIN:VEVENT
DTSTART;TZID=Asia/Kuala_Lumpur:20251124T090000
DTEND;TZID=Asia/Kuala_Lumpur:20251130T170000
DTSTAMP:20260423T194448
CREATED:20251124T082328Z
LAST-MODIFIED:20251124T082328Z
UID:9079-1763974800-1764522000@serdang.nadi.my
SUMMARY:WEBINAR ON DEMAND : RISIKO SIBER DALAM DUNIA AI
DESCRIPTION:
URL:https://serdang.nadi.my/event/webinar-on-demand-risiko-siber-dalam-dunia-ai/
END:VEVENT
BEGIN:VEVENT
DTSTART;TZID=Asia/Kuala_Lumpur:20251124T153000
DTEND;TZID=Asia/Kuala_Lumpur:20251124T163000
DTSTAMP:20260423T194448
CREATED:20251110T040629Z
LAST-MODIFIED:20251110T040629Z
UID:9072-1763998200-1764001800@serdang.nadi.my
SUMMARY:OPEN LIVE CLASS SEJARAH
DESCRIPTION:
URL:https://serdang.nadi.my/event/open-live-class-sejarah-2/
END:VEVENT
BEGIN:VEVENT
DTSTART;TZID=Asia/Kuala_Lumpur:20251127T153000
DTEND;TZID=Asia/Kuala_Lumpur:20251127T163000
DTSTAMP:20260423T194448
CREATED:20251110T040706Z
LAST-MODIFIED:20251110T040706Z
UID:9074-1764257400-1764261000@serdang.nadi.my
SUMMARY:OPEN LIVE CLASS SAINS
DESCRIPTION:
URL:https://serdang.nadi.my/event/open-live-class-sains-3/
END:VEVENT
BEGIN:VEVENT
DTSTART;TZID=Asia/Kuala_Lumpur:20251129T143000
DTEND;TZID=Asia/Kuala_Lumpur:20251129T163000
DTSTAMP:20260423T194448
CREATED:20251124T080808Z
LAST-MODIFIED:20251124T080808Z
UID:9077-1764426600-1764433800@serdang.nadi.my
SUMMARY:Gerak Gempur SPM MATEMATIK
DESCRIPTION:
URL:https://serdang.nadi.my/event/gerak-gempur-spm-matematik/
END:VEVENT
END:VCALENDAR