BEGIN:VCALENDAR
VERSION:2.0
PRODID:-//NADI Serdang - ECPv6.15.20//NONSGML v1.0//EN
CALSCALE:GREGORIAN
METHOD:PUBLISH
X-WR-CALNAME:NADI Serdang
X-ORIGINAL-URL:https://serdang.nadi.my
X-WR-CALDESC:Events for NADI Serdang
REFRESH-INTERVAL;VALUE=DURATION:PT1H
X-Robots-Tag:noindex
X-PUBLISHED-TTL:PT1H
BEGIN:VTIMEZONE
TZID:Asia/Kuala_Lumpur
BEGIN:STANDARD
TZOFFSETFROM:+0800
TZOFFSETTO:+0800
TZNAME:+08
DTSTART:20240101T000000
END:STANDARD
END:VTIMEZONE
BEGIN:VEVENT
DTSTART;TZID=Asia/Kuala_Lumpur:20250815T150000
DTEND;TZID=Asia/Kuala_Lumpur:20250815T163000
DTSTAMP:20260421T155203
CREATED:20250812T021202Z
LAST-MODIFIED:20250812T021202Z
UID:8843-1755270000-1755275400@serdang.nadi.my
SUMMARY:NADI MAHIR BAIKI GADJET
DESCRIPTION:
URL:https://serdang.nadi.my/event/nadi-mahir-baiki-gadjet/
END:VEVENT
BEGIN:VEVENT
DTSTART;TZID=Asia/Kuala_Lumpur:20250815T150000
DTEND;TZID=Asia/Kuala_Lumpur:20250815T163000
DTSTAMP:20260421T155203
CREATED:20250812T021130Z
LAST-MODIFIED:20250812T021130Z
UID:8841-1755270000-1755275400@serdang.nadi.my
SUMMARY:NADI MAHIR MASAK
DESCRIPTION:
URL:https://serdang.nadi.my/event/nadi-mahir-masak-4/
END:VEVENT
BEGIN:VEVENT
DTSTART;TZID=Asia/Kuala_Lumpur:20250815T093000
DTEND;TZID=Asia/Kuala_Lumpur:20250815T110000
DTSTAMP:20260421T155203
CREATED:20250812T021104Z
LAST-MODIFIED:20250812T021104Z
UID:8839-1755250200-1755255600@serdang.nadi.my
SUMMARY:NADI MAHIR FOTO
DESCRIPTION:
URL:https://serdang.nadi.my/event/nadi-mahir-foto-3/
END:VEVENT
BEGIN:VEVENT
DTSTART;TZID=Asia/Kuala_Lumpur:20250815T093000
DTEND;TZID=Asia/Kuala_Lumpur:20250815T110000
DTSTAMP:20260421T155203
CREATED:20250812T020954Z
LAST-MODIFIED:20250812T020954Z
UID:8837-1755250200-1755255600@serdang.nadi.my
SUMMARY:NADI MAHIR MASAK
DESCRIPTION:
URL:https://serdang.nadi.my/event/nadi-mahir-masak-3/
END:VEVENT
BEGIN:VEVENT
DTSTART;TZID=Asia/Kuala_Lumpur:20250814T153000
DTEND;TZID=Asia/Kuala_Lumpur:20250814T163000
DTSTAMP:20260421T155203
CREATED:20250805T043051Z
LAST-MODIFIED:20250805T043051Z
UID:8794-1755185400-1755189000@serdang.nadi.my
SUMMARY:LIVE CLASS TUISYEN TINGKATAN 4 : BAHASA INGGERIS
DESCRIPTION:
URL:https://serdang.nadi.my/event/live-class-tuisyen-tingkatan-4-bahasa-inggeris/
END:VEVENT
BEGIN:VEVENT
DTSTART;TZID=Asia/Kuala_Lumpur:20250814T150000
DTEND;TZID=Asia/Kuala_Lumpur:20250814T163000
DTSTAMP:20260421T155203
CREATED:20250812T020903Z
LAST-MODIFIED:20250812T020903Z
UID:8835-1755183600-1755189000@serdang.nadi.my
SUMMARY:NADI MAHIR MASAK
DESCRIPTION:
URL:https://serdang.nadi.my/event/nadi-mahir-masak-2/
END:VEVENT
BEGIN:VEVENT
DTSTART;TZID=Asia/Kuala_Lumpur:20250814T150000
DTEND;TZID=Asia/Kuala_Lumpur:20250814T163000
DTSTAMP:20260421T155203
CREATED:20250805T040457Z
LAST-MODIFIED:20250805T040510Z
UID:8777-1755183600-1755189000@serdang.nadi.my
SUMMARY:WEBINAR NADI X CYBERSECURITY : SELAMATKAN TELEFON ANDA DARI ANCAMAN
DESCRIPTION:
URL:https://serdang.nadi.my/event/webinar-nadi-x-cybersecurity-selamatkan-telefonanda-dari-ancaman/
END:VEVENT
BEGIN:VEVENT
DTSTART;TZID=Asia/Kuala_Lumpur:20250813T150000
DTEND;TZID=Asia/Kuala_Lumpur:20250813T163000
DTSTAMP:20260421T155203
CREATED:20250812T020804Z
LAST-MODIFIED:20250812T020804Z
UID:8833-1755097200-1755102600@serdang.nadi.my
SUMMARY:NADI MAHIR JAHIT
DESCRIPTION:
URL:https://serdang.nadi.my/event/nadi-mahir-jahit/
END:VEVENT
BEGIN:VEVENT
DTSTART;TZID=Asia/Kuala_Lumpur:20250813T093000
DTEND;TZID=Asia/Kuala_Lumpur:20250813T110000
DTSTAMP:20260421T155203
CREATED:20250812T020718Z
LAST-MODIFIED:20250812T020718Z
UID:8831-1755077400-1755082800@serdang.nadi.my
SUMMARY:NADI MAHIR MASAK
DESCRIPTION:
URL:https://serdang.nadi.my/event/nadi-mahir-masak/
END:VEVENT
BEGIN:VEVENT
DTSTART;TZID=Asia/Kuala_Lumpur:20250812T153000
DTEND;TZID=Asia/Kuala_Lumpur:20250812T163000
DTSTAMP:20260421T155203
CREATED:20250805T043021Z
LAST-MODIFIED:20250805T043021Z
UID:8792-1755012600-1755016200@serdang.nadi.my
SUMMARY:LIVE CLASS TUISYEN TINGKATAN 4 : SEJARAH
DESCRIPTION:
URL:https://serdang.nadi.my/event/live-class-tuisyen-tingkatan-4-sejarah/
END:VEVENT
BEGIN:VEVENT
DTSTART;TZID=Asia/Kuala_Lumpur:20250811T153000
DTEND;TZID=Asia/Kuala_Lumpur:20250811T163000
DTSTAMP:20260421T155203
CREATED:20250805T070128Z
LAST-MODIFIED:20250805T070128Z
UID:8801-1754926200-1754929800@serdang.nadi.my
SUMMARY:OPEN LIVE CLASS : SEJARAH (TINGKATAN1-3)
DESCRIPTION:
URL:https://serdang.nadi.my/event/open-live-class-sejarah-tingkatan1-3/
END:VEVENT
BEGIN:VEVENT
DTSTART;TZID=Asia/Kuala_Lumpur:20250811T153000
DTEND;TZID=Asia/Kuala_Lumpur:20250811T163000
DTSTAMP:20260421T155203
CREATED:20250805T042858Z
LAST-MODIFIED:20250805T042858Z
UID:8788-1754926200-1754929800@serdang.nadi.my
SUMMARY:LIVE CLASS TUISYEN TINGKATAN 4 : BAHASA MELAYU
DESCRIPTION:
URL:https://serdang.nadi.my/event/live-class-tuisyen-tingkatan-4-bahasa-melayu/
END:VEVENT
BEGIN:VEVENT
DTSTART;TZID=Asia/Kuala_Lumpur:20250810T153000
DTEND;TZID=Asia/Kuala_Lumpur:20250810T163000
DTSTAMP:20260421T155203
CREATED:20250805T042943Z
LAST-MODIFIED:20250805T043114Z
UID:8790-1754839800-1754843400@serdang.nadi.my
SUMMARY:LIVE CLASS TUISYEN TINGKATAN 4 : MATEMATIK
DESCRIPTION:
URL:https://serdang.nadi.my/event/live-class-tuisyen-tingkatan-5-matematik-2/
END:VEVENT
BEGIN:VEVENT
DTSTART;TZID=Asia/Kuala_Lumpur:20250809T153000
DTEND;TZID=Asia/Kuala_Lumpur:20250809T163000
DTSTAMP:20260421T155203
CREATED:20250805T040855Z
LAST-MODIFIED:20250805T040855Z
UID:8786-1754753400-1754757000@serdang.nadi.my
SUMMARY:LIVE CLASS TUISYEN TINGKATAN 5 : MATEMATIK
DESCRIPTION:
URL:https://serdang.nadi.my/event/live-class-tuisyen-tingkatan-5-matematik/
END:VEVENT
BEGIN:VEVENT
DTSTART;TZID=Asia/Kuala_Lumpur:20250809T141500
DTEND;TZID=Asia/Kuala_Lumpur:20250809T151500
DTSTAMP:20260421T155203
CREATED:20250805T040818Z
LAST-MODIFIED:20250805T040818Z
UID:8784-1754748900-1754752500@serdang.nadi.my
SUMMARY:LIVE CLASS TUISYEN TINGKATAN 5 : SEJARAH
DESCRIPTION:
URL:https://serdang.nadi.my/event/live-class-tuisyen-tingkatan-5-sejarah/
END:VEVENT
BEGIN:VEVENT
DTSTART;TZID=Asia/Kuala_Lumpur:20250808T160000
DTEND;TZID=Asia/Kuala_Lumpur:20250808T170000
DTSTAMP:20260421T155203
CREATED:20250805T040733Z
LAST-MODIFIED:20250805T040733Z
UID:8782-1754668800-1754672400@serdang.nadi.my
SUMMARY:LIVE CLASS TUISYEN TINGKATAN 5 : BAHASA INGGERIS
DESCRIPTION:
URL:https://serdang.nadi.my/event/live-class-tuisyen-tingkatan-5-bahasa-inggeris/
END:VEVENT
BEGIN:VEVENT
DTSTART;TZID=Asia/Kuala_Lumpur:20250808T150000
DTEND;TZID=Asia/Kuala_Lumpur:20250808T163000
DTSTAMP:20260421T155203
CREATED:20250805T035334Z
LAST-MODIFIED:20250805T035334Z
UID:8775-1754665200-1754670600@serdang.nadi.my
SUMMARY:KELAS MAHIR BAIKI GADJET
DESCRIPTION:
URL:https://serdang.nadi.my/event/kelas-mahir-baiki-gadjet/
END:VEVENT
BEGIN:VEVENT
DTSTART;TZID=Asia/Kuala_Lumpur:20250808T144500
DTEND;TZID=Asia/Kuala_Lumpur:20250808T154500
DTSTAMP:20260421T155203
CREATED:20250805T040701Z
LAST-MODIFIED:20250805T040701Z
UID:8780-1754664300-1754667900@serdang.nadi.my
SUMMARY:LIVE CLASS TUISYEN TINGKATAN 5 : BAHASA MELAYU
DESCRIPTION:
URL:https://serdang.nadi.my/event/live-class-tuisyen-tingkatan-5-bahasa-melayu/
END:VEVENT
BEGIN:VEVENT
DTSTART;TZID=Asia/Kuala_Lumpur:20250808T093000
DTEND;TZID=Asia/Kuala_Lumpur:20250808T110000
DTSTAMP:20260421T155203
CREATED:20250805T035253Z
LAST-MODIFIED:20250805T035253Z
UID:8773-1754645400-1754650800@serdang.nadi.my
SUMMARY:KELAS MAHIR FOTO
DESCRIPTION:
URL:https://serdang.nadi.my/event/kelas-mahir-foto/
END:VEVENT
BEGIN:VEVENT
DTSTART;TZID=Asia/Kuala_Lumpur:20250808T093000
DTEND;TZID=Asia/Kuala_Lumpur:20250808T110000
DTSTAMP:20260421T155203
CREATED:20250805T035219Z
LAST-MODIFIED:20250805T035219Z
UID:8771-1754645400-1754650800@serdang.nadi.my
SUMMARY:KELAS MAHIR MASAK
DESCRIPTION:
URL:https://serdang.nadi.my/event/kelas-mahir-masak-3/
END:VEVENT
BEGIN:VEVENT
DTSTART;TZID=Asia/Kuala_Lumpur:20250807T153000
DTEND;TZID=Asia/Kuala_Lumpur:20250807T163000
DTSTAMP:20260421T155203
CREATED:20250805T065812Z
LAST-MODIFIED:20250805T065812Z
UID:8799-1754580600-1754584200@serdang.nadi.my
SUMMARY:OPEN LIVE CLASS : BAHASA MELAYU (TINGKATAN1-3)
DESCRIPTION:
URL:https://serdang.nadi.my/event/open-live-class-bahasa-melayu-tingkatan1-3/
END:VEVENT
BEGIN:VEVENT
DTSTART;TZID=Asia/Kuala_Lumpur:20250807T150000
DTEND;TZID=Asia/Kuala_Lumpur:20250807T163000
DTSTAMP:20260421T155203
CREATED:20250805T035140Z
LAST-MODIFIED:20250805T035140Z
UID:8769-1754578800-1754584200@serdang.nadi.my
SUMMARY:KELAS MAHIR MASAK
DESCRIPTION:
URL:https://serdang.nadi.my/event/kelas-mahir-masak-2/
END:VEVENT
BEGIN:VEVENT
DTSTART;TZID=Asia/Kuala_Lumpur:20250806T150000
DTEND;TZID=Asia/Kuala_Lumpur:20250806T163000
DTSTAMP:20260421T155203
CREATED:20250805T035020Z
LAST-MODIFIED:20250805T035020Z
UID:8765-1754492400-1754497800@serdang.nadi.my
SUMMARY:KELAS MAHIR JAHIT
DESCRIPTION:
URL:https://serdang.nadi.my/event/kelas-mahir-jahit-3/
END:VEVENT
BEGIN:VEVENT
DTSTART;TZID=Asia/Kuala_Lumpur:20250806T093000
DTEND;TZID=Asia/Kuala_Lumpur:20250806T113000
DTSTAMP:20260421T155203
CREATED:20250805T034941Z
LAST-MODIFIED:20250805T034941Z
UID:8763-1754472600-1754479800@serdang.nadi.my
SUMMARY:KELAS MAHIR MASAK
DESCRIPTION:
URL:https://serdang.nadi.my/event/kelas-mahir-masak/
END:VEVENT
BEGIN:VEVENT
DTSTART;TZID=Asia/Kuala_Lumpur:20250806T093000
DTEND;TZID=Asia/Kuala_Lumpur:20250806T103000
DTSTAMP:20260421T155203
CREATED:20250805T035107Z
LAST-MODIFIED:20250805T035107Z
UID:8767-1754472600-1754476200@serdang.nadi.my
SUMMARY:KELAS MAHIR PERTANIAN PINTAR
DESCRIPTION:
URL:https://serdang.nadi.my/event/kelas-mahir-pertanian-pintar-4/
END:VEVENT
BEGIN:VEVENT
DTSTART;TZID=Asia/Kuala_Lumpur:20250805T153000
DTEND;TZID=Asia/Kuala_Lumpur:20250805T163000
DTSTAMP:20260421T155203
CREATED:20250805T065711Z
LAST-MODIFIED:20250805T065711Z
UID:8797-1754407800-1754411400@serdang.nadi.my
SUMMARY:OPEN LIVE CLASS : BAHASA INGGERIS (TINGKATAN1-3)
DESCRIPTION:
URL:https://serdang.nadi.my/event/open-live-class-bahasa-inggeris-tingkatan1-3/
END:VEVENT
BEGIN:VEVENT
DTSTART;TZID=Asia/Kuala_Lumpur:20250729T153000
DTEND;TZID=Asia/Kuala_Lumpur:20250729T163000
DTSTAMP:20260421T155203
CREATED:20250715T040900Z
LAST-MODIFIED:20250715T040900Z
UID:8717-1753803000-1753806600@serdang.nadi.my
SUMMARY:OPEN LIVE CLASS TUISYEN BAHASA MELAYU TINGKATAN 4/5
DESCRIPTION:
URL:https://serdang.nadi.my/event/open-live-class-tuisyen-bahasa-melayu-tingkatan-4-5-2/
END:VEVENT
BEGIN:VEVENT
DTSTART;TZID=Asia/Kuala_Lumpur:20250728T153000
DTEND;TZID=Asia/Kuala_Lumpur:20250728T163000
DTSTAMP:20260421T155203
CREATED:20250715T040819Z
LAST-MODIFIED:20250715T040819Z
UID:8715-1753716600-1753720200@serdang.nadi.my
SUMMARY:OPEN LIVE CLASS TUISYEN MATEMATIK TINGKATAN 4/5
DESCRIPTION:
URL:https://serdang.nadi.my/event/open-live-class-tuisyen-matematik-tingkatan-4-5-2/
END:VEVENT
BEGIN:VEVENT
DTSTART;TZID=Asia/Kuala_Lumpur:20250725T150000
DTEND;TZID=Asia/Kuala_Lumpur:20250725T163000
DTSTAMP:20260421T155203
CREATED:20250721T084041Z
LAST-MODIFIED:20250721T084041Z
UID:8751-1753455600-1753461000@serdang.nadi.my
SUMMARY:MAHIR GADJET MINGGU 1 2ND  INTAKE (GROUP 3)
DESCRIPTION:
URL:https://serdang.nadi.my/event/mahir-gadjet-minggu-1-2nd-intake-group-3/
END:VEVENT
BEGIN:VEVENT
DTSTART;TZID=Asia/Kuala_Lumpur:20250725T093000
DTEND;TZID=Asia/Kuala_Lumpur:20250725T110000
DTSTAMP:20260421T155203
CREATED:20250721T081708Z
LAST-MODIFIED:20250721T081708Z
UID:8748-1753435800-1753441200@serdang.nadi.my
SUMMARY:MAHIR MASAK MINGGU 1 2ND  INTAKE (GROUP 5)
DESCRIPTION:
URL:https://serdang.nadi.my/event/mahir-masak-minggu-1-2nd-intake-group-5/
END:VEVENT
END:VCALENDAR