BEGIN:VCALENDAR
VERSION:2.0
PRODID:-//NADI Serdang - ECPv6.15.20//NONSGML v1.0//EN
CALSCALE:GREGORIAN
METHOD:PUBLISH
X-WR-CALNAME:NADI Serdang
X-ORIGINAL-URL:https://serdang.nadi.my
X-WR-CALDESC:Events for NADI Serdang
REFRESH-INTERVAL;VALUE=DURATION:PT1H
X-Robots-Tag:noindex
X-PUBLISHED-TTL:PT1H
BEGIN:VTIMEZONE
TZID:Asia/Kuala_Lumpur
BEGIN:STANDARD
TZOFFSETFROM:+0800
TZOFFSETTO:+0800
TZNAME:+08
DTSTART:20240101T000000
END:STANDARD
END:VTIMEZONE
BEGIN:VEVENT
DTSTART;TZID=Asia/Kuala_Lumpur:20250827T093000
DTEND;TZID=Asia/Kuala_Lumpur:20250827T110000
DTSTAMP:20260423T053500
CREATED:20250812T022133Z
LAST-MODIFIED:20250812T022133Z
UID:8875-1756287000-1756292400@serdang.nadi.my
SUMMARY:NADI MAHIR PERTANIAN PINTAR
DESCRIPTION:
URL:https://serdang.nadi.my/event/nadi-mahir-pertanian-pintar/
END:VEVENT
BEGIN:VEVENT
DTSTART;TZID=Asia/Kuala_Lumpur:20250827T093000
DTEND;TZID=Asia/Kuala_Lumpur:20250827T110000
DTSTAMP:20260423T053500
CREATED:20250812T022030Z
LAST-MODIFIED:20250812T022030Z
UID:8871-1756287000-1756292400@serdang.nadi.my
SUMMARY:NADI MAHIR MASAK
DESCRIPTION:
URL:https://serdang.nadi.my/event/nadi-mahir-masak-9/
END:VEVENT
BEGIN:VEVENT
DTSTART;TZID=Asia/Kuala_Lumpur:20250825T150000
DTEND;TZID=Asia/Kuala_Lumpur:20250825T163000
DTSTAMP:20260423T053500
CREATED:20250812T022002Z
LAST-MODIFIED:20250812T022002Z
UID:8869-1756134000-1756139400@serdang.nadi.my
SUMMARY:NADI MAHIR FOTO
DESCRIPTION:
URL:https://serdang.nadi.my/event/nadi-mahir-foto-6/
END:VEVENT
BEGIN:VEVENT
DTSTART;TZID=Asia/Kuala_Lumpur:20250825T150000
DTEND;TZID=Asia/Kuala_Lumpur:20250825T163000
DTSTAMP:20260423T053500
CREATED:20250812T021904Z
LAST-MODIFIED:20250812T021904Z
UID:8865-1756134000-1756139400@serdang.nadi.my
SUMMARY:NADI MAHIR MASAK
DESCRIPTION:
URL:https://serdang.nadi.my/event/nadi-mahir-masak-8/
END:VEVENT
BEGIN:VEVENT
DTSTART;TZID=Asia/Kuala_Lumpur:20250825T093000
DTEND;TZID=Asia/Kuala_Lumpur:20250825T110000
DTSTAMP:20260423T053500
CREATED:20250812T021934Z
LAST-MODIFIED:20250812T021934Z
UID:8867-1756114200-1756119600@serdang.nadi.my
SUMMARY:NADI MAHIR JAHIT
DESCRIPTION:
URL:https://serdang.nadi.my/event/nadi-mahir-jahit-5/
END:VEVENT
BEGIN:VEVENT
DTSTART;TZID=Asia/Kuala_Lumpur:20250823T090000
DTEND;TZID=Asia/Kuala_Lumpur:20250823T170000
DTSTAMP:20260423T053500
CREATED:20250812T020507Z
LAST-MODIFIED:20250812T020507Z
UID:8828-1755939600-1755968400@serdang.nadi.my
SUMMARY:SKILL FOR LIFE@BANDAR BAHARU AI RESUME CREATOR
DESCRIPTION:
URL:https://serdang.nadi.my/event/skill-for-lifebandar-baharu-ai-resume-creator/
END:VEVENT
BEGIN:VEVENT
DTSTART;TZID=Asia/Kuala_Lumpur:20250822T150000
DTEND;TZID=Asia/Kuala_Lumpur:20250822T163000
DTSTAMP:20260423T053500
CREATED:20250812T021829Z
LAST-MODIFIED:20250812T021829Z
UID:8863-1755874800-1755880200@serdang.nadi.my
SUMMARY:NADI MAHIR BAIKI GADJET
DESCRIPTION:
URL:https://serdang.nadi.my/event/nadi-mahir-baiki-gadjet-2/
END:VEVENT
BEGIN:VEVENT
DTSTART;TZID=Asia/Kuala_Lumpur:20250822T150000
DTEND;TZID=Asia/Kuala_Lumpur:20250822T163000
DTSTAMP:20260423T053500
CREATED:20250812T021751Z
LAST-MODIFIED:20250812T021751Z
UID:8861-1755874800-1755880200@serdang.nadi.my
SUMMARY:NADI MAHIR JAHIT
DESCRIPTION:
URL:https://serdang.nadi.my/event/nadi-mahir-jahit-4/
END:VEVENT
BEGIN:VEVENT
DTSTART;TZID=Asia/Kuala_Lumpur:20250822T093000
DTEND;TZID=Asia/Kuala_Lumpur:20250822T110000
DTSTAMP:20260423T053500
CREATED:20250812T021626Z
LAST-MODIFIED:20250812T021626Z
UID:8857-1755855000-1755860400@serdang.nadi.my
SUMMARY:NADI MAHIR MASAK
DESCRIPTION:
URL:https://serdang.nadi.my/event/nadi-mahir-masak-7/
END:VEVENT
BEGIN:VEVENT
DTSTART;TZID=Asia/Kuala_Lumpur:20250822T093000
DTEND;TZID=Asia/Kuala_Lumpur:20250822T103000
DTSTAMP:20260423T053500
CREATED:20250812T021702Z
LAST-MODIFIED:20250812T021702Z
UID:8859-1755855000-1755858600@serdang.nadi.my
SUMMARY:NADI MAHIR FOTO
DESCRIPTION:
URL:https://serdang.nadi.my/event/nadi-mahir-foto-5/
END:VEVENT
BEGIN:VEVENT
DTSTART;TZID=Asia/Kuala_Lumpur:20250821T153000
DTEND;TZID=Asia/Kuala_Lumpur:20250821T163000
DTSTAMP:20260423T053500
CREATED:20250812T015924Z
LAST-MODIFIED:20250812T015924Z
UID:8821-1755790200-1755793800@serdang.nadi.my
SUMMARY:OPEN LIVE CLASS TUISYEN BAHASA MELAYU TINGKATAN 3\,4\,5
DESCRIPTION:
URL:https://serdang.nadi.my/event/open-live-class-tuisyen-bahasa-melayu-tingkatan-345/
END:VEVENT
BEGIN:VEVENT
DTSTART;TZID=Asia/Kuala_Lumpur:20250821T150000
DTEND;TZID=Asia/Kuala_Lumpur:20250821T163000
DTSTAMP:20260423T053500
CREATED:20250812T021549Z
LAST-MODIFIED:20250812T021549Z
UID:8855-1755788400-1755793800@serdang.nadi.my
SUMMARY:NADI MAHIR MASAK
DESCRIPTION:
URL:https://serdang.nadi.my/event/nadi-mahir-masak-6/
END:VEVENT
BEGIN:VEVENT
DTSTART;TZID=Asia/Kuala_Lumpur:20250820T150000
DTEND;TZID=Asia/Kuala_Lumpur:20250820T163000
DTSTAMP:20260423T053500
CREATED:20250812T021508Z
LAST-MODIFIED:20250812T021508Z
UID:8853-1755702000-1755707400@serdang.nadi.my
SUMMARY:NADI MAHIR JAHIT
DESCRIPTION:
URL:https://serdang.nadi.my/event/nadi-mahir-jahit-3/
END:VEVENT
BEGIN:VEVENT
DTSTART;TZID=Asia/Kuala_Lumpur:20250820T093000
DTEND;TZID=Asia/Kuala_Lumpur:20250820T110000
DTSTAMP:20260423T053500
CREATED:20250812T021437Z
LAST-MODIFIED:20250812T021437Z
UID:8851-1755682200-1755687600@serdang.nadi.my
SUMMARY:NADI MAHIR MASAK
DESCRIPTION:
URL:https://serdang.nadi.my/event/nadi-mahir-masak-5/
END:VEVENT
BEGIN:VEVENT
DTSTART;TZID=Asia/Kuala_Lumpur:20250819T153000
DTEND;TZID=Asia/Kuala_Lumpur:20250819T163000
DTSTAMP:20260423T053500
CREATED:20250812T015849Z
LAST-MODIFIED:20250812T015849Z
UID:8819-1755617400-1755621000@serdang.nadi.my
SUMMARY:OPEN LIVE CLASS TUISYEN BAHASA INGGERIS TINGKATAN 3\,4\,5
DESCRIPTION:
URL:https://serdang.nadi.my/event/open-live-class-tuisyen-bahasa-inggeris-tingkatan-345/
END:VEVENT
BEGIN:VEVENT
DTSTART;TZID=Asia/Kuala_Lumpur:20250818T153000
DTEND;TZID=Asia/Kuala_Lumpur:20250818T163000
DTSTAMP:20260423T053500
CREATED:20250812T015751Z
LAST-MODIFIED:20250812T015751Z
UID:8817-1755531000-1755534600@serdang.nadi.my
SUMMARY:OPEN LIVE CLASS TUISYEN MATEMATIK TINGKATAN 3\,4\,5
DESCRIPTION:
URL:https://serdang.nadi.my/event/open-live-class-tuisyen-matematik-tingkatan-345/
END:VEVENT
BEGIN:VEVENT
DTSTART;TZID=Asia/Kuala_Lumpur:20250818T150000
DTEND;TZID=Asia/Kuala_Lumpur:20250818T163000
DTSTAMP:20260423T053500
CREATED:20250812T021358Z
LAST-MODIFIED:20250812T021358Z
UID:8849-1755529200-1755534600@serdang.nadi.my
SUMMARY:NADI MAHIR FOTO
DESCRIPTION:
URL:https://serdang.nadi.my/event/nadi-mahir-foto-4/
END:VEVENT
BEGIN:VEVENT
DTSTART;TZID=Asia/Kuala_Lumpur:20250818T150000
DTEND;TZID=Asia/Kuala_Lumpur:20250818T163000
DTSTAMP:20260423T053500
CREATED:20250812T021256Z
LAST-MODIFIED:20250812T021256Z
UID:8845-1755529200-1755534600@serdang.nadi.my
SUMMARY:NDI MAHIR MASAK
DESCRIPTION:
URL:https://serdang.nadi.my/event/ndi-mahir-masak/
END:VEVENT
BEGIN:VEVENT
DTSTART;TZID=Asia/Kuala_Lumpur:20250818T093000
DTEND;TZID=Asia/Kuala_Lumpur:20250818T110000
DTSTAMP:20260423T053500
CREATED:20250812T021331Z
LAST-MODIFIED:20250812T021331Z
UID:8847-1755509400-1755514800@serdang.nadi.my
SUMMARY:NADI MAHIR JAHIT
DESCRIPTION:
URL:https://serdang.nadi.my/event/nadi-mahir-jahit-2/
END:VEVENT
BEGIN:VEVENT
DTSTART;TZID=Asia/Kuala_Lumpur:20250816T080000
DTEND;TZID=Asia/Kuala_Lumpur:20250816T180000
DTSTAMP:20260423T053500
CREATED:20250812T020219Z
LAST-MODIFIED:20250812T020219Z
UID:8826-1755331200-1755367200@serdang.nadi.my
SUMMARY:PERTANDINGAN MOBILE LEGEND PERINGKAT SARINGAN NADI SERDANG
DESCRIPTION:
URL:https://serdang.nadi.my/event/pertandingan-mobile-legend-peringkat-saringan-nadi-serdang/
END:VEVENT
BEGIN:VEVENT
DTSTART;TZID=Asia/Kuala_Lumpur:20250815T150000
DTEND;TZID=Asia/Kuala_Lumpur:20250815T163000
DTSTAMP:20260423T053500
CREATED:20250812T021202Z
LAST-MODIFIED:20250812T021202Z
UID:8843-1755270000-1755275400@serdang.nadi.my
SUMMARY:NADI MAHIR BAIKI GADJET
DESCRIPTION:
URL:https://serdang.nadi.my/event/nadi-mahir-baiki-gadjet/
END:VEVENT
BEGIN:VEVENT
DTSTART;TZID=Asia/Kuala_Lumpur:20250815T150000
DTEND;TZID=Asia/Kuala_Lumpur:20250815T163000
DTSTAMP:20260423T053500
CREATED:20250812T021130Z
LAST-MODIFIED:20250812T021130Z
UID:8841-1755270000-1755275400@serdang.nadi.my
SUMMARY:NADI MAHIR MASAK
DESCRIPTION:
URL:https://serdang.nadi.my/event/nadi-mahir-masak-4/
END:VEVENT
BEGIN:VEVENT
DTSTART;TZID=Asia/Kuala_Lumpur:20250815T093000
DTEND;TZID=Asia/Kuala_Lumpur:20250815T110000
DTSTAMP:20260423T053500
CREATED:20250812T021104Z
LAST-MODIFIED:20250812T021104Z
UID:8839-1755250200-1755255600@serdang.nadi.my
SUMMARY:NADI MAHIR FOTO
DESCRIPTION:
URL:https://serdang.nadi.my/event/nadi-mahir-foto-3/
END:VEVENT
BEGIN:VEVENT
DTSTART;TZID=Asia/Kuala_Lumpur:20250815T093000
DTEND;TZID=Asia/Kuala_Lumpur:20250815T110000
DTSTAMP:20260423T053500
CREATED:20250812T020954Z
LAST-MODIFIED:20250812T020954Z
UID:8837-1755250200-1755255600@serdang.nadi.my
SUMMARY:NADI MAHIR MASAK
DESCRIPTION:
URL:https://serdang.nadi.my/event/nadi-mahir-masak-3/
END:VEVENT
BEGIN:VEVENT
DTSTART;TZID=Asia/Kuala_Lumpur:20250814T153000
DTEND;TZID=Asia/Kuala_Lumpur:20250814T163000
DTSTAMP:20260423T053500
CREATED:20250805T043051Z
LAST-MODIFIED:20250805T043051Z
UID:8794-1755185400-1755189000@serdang.nadi.my
SUMMARY:LIVE CLASS TUISYEN TINGKATAN 4 : BAHASA INGGERIS
DESCRIPTION:
URL:https://serdang.nadi.my/event/live-class-tuisyen-tingkatan-4-bahasa-inggeris/
END:VEVENT
BEGIN:VEVENT
DTSTART;TZID=Asia/Kuala_Lumpur:20250814T150000
DTEND;TZID=Asia/Kuala_Lumpur:20250814T163000
DTSTAMP:20260423T053500
CREATED:20250812T020903Z
LAST-MODIFIED:20250812T020903Z
UID:8835-1755183600-1755189000@serdang.nadi.my
SUMMARY:NADI MAHIR MASAK
DESCRIPTION:
URL:https://serdang.nadi.my/event/nadi-mahir-masak-2/
END:VEVENT
BEGIN:VEVENT
DTSTART;TZID=Asia/Kuala_Lumpur:20250814T150000
DTEND;TZID=Asia/Kuala_Lumpur:20250814T163000
DTSTAMP:20260423T053500
CREATED:20250805T040457Z
LAST-MODIFIED:20250805T040510Z
UID:8777-1755183600-1755189000@serdang.nadi.my
SUMMARY:WEBINAR NADI X CYBERSECURITY : SELAMATKAN TELEFON ANDA DARI ANCAMAN
DESCRIPTION:
URL:https://serdang.nadi.my/event/webinar-nadi-x-cybersecurity-selamatkan-telefonanda-dari-ancaman/
END:VEVENT
BEGIN:VEVENT
DTSTART;TZID=Asia/Kuala_Lumpur:20250813T150000
DTEND;TZID=Asia/Kuala_Lumpur:20250813T163000
DTSTAMP:20260423T053500
CREATED:20250812T020804Z
LAST-MODIFIED:20250812T020804Z
UID:8833-1755097200-1755102600@serdang.nadi.my
SUMMARY:NADI MAHIR JAHIT
DESCRIPTION:
URL:https://serdang.nadi.my/event/nadi-mahir-jahit/
END:VEVENT
BEGIN:VEVENT
DTSTART;TZID=Asia/Kuala_Lumpur:20250813T093000
DTEND;TZID=Asia/Kuala_Lumpur:20250813T110000
DTSTAMP:20260423T053500
CREATED:20250812T020718Z
LAST-MODIFIED:20250812T020718Z
UID:8831-1755077400-1755082800@serdang.nadi.my
SUMMARY:NADI MAHIR MASAK
DESCRIPTION:
URL:https://serdang.nadi.my/event/nadi-mahir-masak/
END:VEVENT
BEGIN:VEVENT
DTSTART;TZID=Asia/Kuala_Lumpur:20250812T153000
DTEND;TZID=Asia/Kuala_Lumpur:20250812T163000
DTSTAMP:20260423T053500
CREATED:20250805T043021Z
LAST-MODIFIED:20250805T043021Z
UID:8792-1755012600-1755016200@serdang.nadi.my
SUMMARY:LIVE CLASS TUISYEN TINGKATAN 4 : SEJARAH
DESCRIPTION:
URL:https://serdang.nadi.my/event/live-class-tuisyen-tingkatan-4-sejarah/
END:VEVENT
END:VCALENDAR