BEGIN:VCALENDAR
VERSION:2.0
PRODID:-//NADI Serdang - ECPv6.15.20//NONSGML v1.0//EN
CALSCALE:GREGORIAN
METHOD:PUBLISH
X-WR-CALNAME:NADI Serdang
X-ORIGINAL-URL:https://serdang.nadi.my
X-WR-CALDESC:Events for NADI Serdang
REFRESH-INTERVAL;VALUE=DURATION:PT1H
X-Robots-Tag:noindex
X-PUBLISHED-TTL:PT1H
BEGIN:VTIMEZONE
TZID:UTC
BEGIN:STANDARD
TZOFFSETFROM:+0000
TZOFFSETTO:+0000
TZNAME:UTC
DTSTART:20230101T000000
END:STANDARD
END:VTIMEZONE
BEGIN:VEVENT
DTSTART;TZID=UTC:20240504T150000
DTEND;TZID=UTC:20240504T170000
DTSTAMP:20260424T211328
CREATED:20240505T201102Z
LAST-MODIFIED:20240505T201102Z
UID:7489-1714834800-1714842000@serdang.nadi.my
SUMMARY:Basic Canva
DESCRIPTION:
URL:https://serdang.nadi.my/event/basic-canva/
CATEGORIES:DEFAULT
END:VEVENT
BEGIN:VEVENT
DTSTART;TZID=UTC:20240502T100000
DTEND;TZID=UTC:20240503T120000
DTSTAMP:20260424T211328
CREATED:20240505T201024Z
LAST-MODIFIED:20240505T201024Z
UID:7488-1714644000-1714737600@serdang.nadi.my
SUMMARY:Kelas ICT sekolah rendah
DESCRIPTION:
URL:https://serdang.nadi.my/event/kelas-ict-sekolah-rendah/
CATEGORIES:DEFAULT
END:VEVENT
BEGIN:VEVENT
DTSTART;TZID=UTC:20240430T150000
DTEND;TZID=UTC:20240430T170000
DTSTAMP:20260424T211328
CREATED:20240420T180813Z
LAST-MODIFIED:20240420T180813Z
UID:7487-1714489200-1714496400@serdang.nadi.my
SUMMARY:kelas latihan ict pelajat sekolah rendah
DESCRIPTION:
URL:https://serdang.nadi.my/event/kelas-latihan-ict-pelajat-sekolah-rendah/
CATEGORIES:DEFAULT
END:VEVENT
BEGIN:VEVENT
DTSTART;TZID=UTC:20240425T150000
DTEND;TZID=UTC:20240425T170000
DTSTAMP:20260424T211328
CREATED:20240420T180737Z
LAST-MODIFIED:20240420T180737Z
UID:7486-1714057200-1714064400@serdang.nadi.my
SUMMARY:kelas latihan ict pelajar sekolah rendah
DESCRIPTION:
URL:https://serdang.nadi.my/event/kelas-latihan-ict-pelajar-sekolah-rendah-2/
CATEGORIES:DEFAULT
END:VEVENT
BEGIN:VEVENT
DTSTART;TZID=UTC:20240423T150000
DTEND;TZID=UTC:20240423T170000
DTSTAMP:20260424T211328
CREATED:20240420T180708Z
LAST-MODIFIED:20240420T180708Z
UID:7485-1713884400-1713891600@serdang.nadi.my
SUMMARY:kelas latihan ict pelajar sekolah rendah
DESCRIPTION:
URL:https://serdang.nadi.my/event/kelas-latihan-ict-pelajar-sekolah-rendah/
CATEGORIES:DEFAULT
END:VEVENT
BEGIN:VEVENT
DTSTART;TZID=UTC:20240420T100000
DTEND;TZID=UTC:20240420T120000
DTSTAMP:20260424T211328
CREATED:20240420T180639Z
LAST-MODIFIED:20240420T180639Z
UID:7484-1713607200-1713614400@serdang.nadi.my
SUMMARY:kelas latihan ict
DESCRIPTION:
URL:https://serdang.nadi.my/event/kelas-latihan-ict-2/
CATEGORIES:DEFAULT
END:VEVENT
BEGIN:VEVENT
DTSTART;TZID=UTC:20240418T150000
DTEND;TZID=UTC:20240418T170000
DTSTAMP:20260424T211328
CREATED:20240420T180532Z
LAST-MODIFIED:20240420T180532Z
UID:7483-1713452400-1713459600@serdang.nadi.my
SUMMARY:Kelas ICT
DESCRIPTION:
URL:https://serdang.nadi.my/event/kelas-ict-9/
CATEGORIES:DEFAULT
END:VEVENT
BEGIN:VEVENT
DTSTART;TZID=UTC:20240416T150000
DTEND;TZID=UTC:20240416T170000
DTSTAMP:20260424T211328
CREATED:20240405T170935Z
LAST-MODIFIED:20240405T170935Z
UID:7482-1713279600-1713286800@serdang.nadi.my
SUMMARY:Latihan ICT : Pelajar sekolah Rendah
DESCRIPTION:
URL:https://serdang.nadi.my/event/latihan-ict-pelajar-sekolah-rendah-3/
CATEGORIES:DEFAULT
END:VEVENT
BEGIN:VEVENT
DTSTART;TZID=UTC:20240414T150000
DTEND;TZID=UTC:20240414T170000
DTSTAMP:20260424T211328
CREATED:20240405T170853Z
LAST-MODIFIED:20240405T170853Z
UID:7481-1713106800-1713114000@serdang.nadi.my
SUMMARY:E-Learning
DESCRIPTION:
URL:https://serdang.nadi.my/event/e-learning/
CATEGORIES:DEFAULT
END:VEVENT
BEGIN:VEVENT
DTSTART;TZID=UTC:20240405T100000
DTEND;TZID=UTC:20240406T120000
DTSTAMP:20260424T211328
CREATED:20240405T170821Z
LAST-MODIFIED:20240405T170821Z
UID:7480-1712311200-1712404800@serdang.nadi.my
SUMMARY:Latihan ICT : Pelajar sekolah Rendah
DESCRIPTION:
URL:https://serdang.nadi.my/event/latihan-ict-pelajar-sekolah-rendah-2/
CATEGORIES:DEFAULT
END:VEVENT
BEGIN:VEVENT
DTSTART;TZID=UTC:20240403T090000
DTEND;TZID=UTC:20240403T100000
DTSTAMP:20260424T211328
CREATED:20240405T170738Z
LAST-MODIFIED:20240405T170738Z
UID:7479-1712134800-1712138400@serdang.nadi.my
SUMMARY:Penguasaan chat gpt : Panduan untuk usahawan
DESCRIPTION:
URL:https://serdang.nadi.my/event/penguasaan-chat-gpt-panduan-untuk-usahawan/
CATEGORIES:DEFAULT
END:VEVENT
BEGIN:VEVENT
DTSTART;TZID=UTC:20240402T150000
DTEND;TZID=UTC:20240402T170000
DTSTAMP:20260424T211328
CREATED:20240405T170640Z
LAST-MODIFIED:20240405T170640Z
UID:7478-1712070000-1712077200@serdang.nadi.my
SUMMARY:Latihan ICT : Pelajar sekolah rendah
DESCRIPTION:
URL:https://serdang.nadi.my/event/latihan-ict-pelajar-sekolah-rendah/
CATEGORIES:DEFAULT
END:VEVENT
BEGIN:VEVENT
DTSTART;TZID=UTC:20240330T100000
DTEND;TZID=UTC:20240330T120000
DTSTAMP:20260424T211328
CREATED:20240328T000924Z
LAST-MODIFIED:20240328T000924Z
UID:7477-1711792800-1711800000@serdang.nadi.my
SUMMARY:Kelas ICT pelajar sekolah menengah
DESCRIPTION:
URL:https://serdang.nadi.my/event/kelas-ict-pelajar-sekolah-menengah-4/
CATEGORIES:DEFAULT
END:VEVENT
BEGIN:VEVENT
DTSTART;TZID=UTC:20240329T100000
DTEND;TZID=UTC:20240329T120000
DTSTAMP:20260424T211328
CREATED:20240328T000602Z
LAST-MODIFIED:20240328T000602Z
UID:7476-1711706400-1711713600@serdang.nadi.my
SUMMARY:Kelas ICT pelajar sekolah rendah
DESCRIPTION:
URL:https://serdang.nadi.my/event/kelas-ict-pelajar-sekolah-rendah-7/
CATEGORIES:DEFAULT
END:VEVENT
BEGIN:VEVENT
DTSTART;TZID=UTC:20240301T090000
DTEND;TZID=UTC:20240331T160000
DTSTAMP:20260424T211328
CREATED:20240328T000449Z
LAST-MODIFIED:20240328T000449Z
UID:7475-1709283600-1711900800@serdang.nadi.my
SUMMARY:Pendaftaran PADU
DESCRIPTION:
URL:https://serdang.nadi.my/event/pendaftaran-padu/
CATEGORIES:DEFAULT
END:VEVENT
BEGIN:VEVENT
DTSTART;TZID=UTC:20240226T090000
DTEND;TZID=UTC:20240226T170000
DTSTAMP:20260424T211328
CREATED:20240204T174535Z
LAST-MODIFIED:20240204T174535Z
UID:7472-1708938000-1708966800@serdang.nadi.my
SUMMARY:Program Mini Keusahawanan
DESCRIPTION:
URL:https://serdang.nadi.my/event/program-mini-keusahawanan/
CATEGORIES:DEFAULT
END:VEVENT
BEGIN:VEVENT
DTSTART;TZID=UTC:20240226T080000
DTEND;TZID=UTC:20240227T170000
DTSTAMP:20260424T211328
CREATED:20240204T174623Z
LAST-MODIFIED:20240204T174623Z
UID:7473-1708934400-1709053200@serdang.nadi.my
SUMMARY:Latihan Tahunan (Pen.Pengurus)
DESCRIPTION:
URL:https://serdang.nadi.my/event/latihan-tahunan-pen-pengurus/
CATEGORIES:DEFAULT
END:VEVENT
BEGIN:VEVENT
DTSTART;TZID=UTC:20240224T100000
DTEND;TZID=UTC:20240224T120000
DTSTAMP:20260424T211328
CREATED:20240204T174416Z
LAST-MODIFIED:20240204T174416Z
UID:7471-1708768800-1708776000@serdang.nadi.my
SUMMARY:Kelas ICT pelajar sekolah menengah
DESCRIPTION:
URL:https://serdang.nadi.my/event/kelas-ict-pelajar-sekolah-menengah-3/
CATEGORIES:DEFAULT
END:VEVENT
BEGIN:VEVENT
DTSTART;TZID=UTC:20240223T150000
DTEND;TZID=UTC:20240223T170000
DTSTAMP:20260424T211328
CREATED:20240204T174344Z
LAST-MODIFIED:20240204T174344Z
UID:7470-1708700400-1708707600@serdang.nadi.my
SUMMARY:Kelas ICT pelajar sekolah rendah
DESCRIPTION:
URL:https://serdang.nadi.my/event/kelas-ict-pelajar-sekolah-rendah-6/
CATEGORIES:DEFAULT
END:VEVENT
BEGIN:VEVENT
DTSTART;TZID=UTC:20240223T100000
DTEND;TZID=UTC:20240223T120000
DTSTAMP:20260424T211328
CREATED:20240204T174323Z
LAST-MODIFIED:20240204T174323Z
UID:7469-1708682400-1708689600@serdang.nadi.my
SUMMARY:Kelas ICT pelajar sekolah rendah
DESCRIPTION:
URL:https://serdang.nadi.my/event/kelas-ict-pelajar-sekolah-rendah-5/
CATEGORIES:DEFAULT
END:VEVENT
BEGIN:VEVENT
DTSTART;TZID=UTC:20240219T090000
DTEND;TZID=UTC:20240220T170000
DTSTAMP:20260424T211328
CREATED:20240204T174221Z
LAST-MODIFIED:20240204T174221Z
UID:7468-1708333200-1708448400@serdang.nadi.my
SUMMARY:Latihan Tahunan (Pengurus)
DESCRIPTION:
URL:https://serdang.nadi.my/event/latihan-tahunan-pengurus/
CATEGORIES:DEFAULT
END:VEVENT
BEGIN:VEVENT
DTSTART;TZID=UTC:20240217T100000
DTEND;TZID=UTC:20240217T120000
DTSTAMP:20260424T211328
CREATED:20240204T174147Z
LAST-MODIFIED:20240204T174147Z
UID:7467-1708164000-1708171200@serdang.nadi.my
SUMMARY:Kelas ICT pelajar sekolah menengah
DESCRIPTION:
URL:https://serdang.nadi.my/event/kelas-ict-pelajar-sekolah-menengah-2/
CATEGORIES:DEFAULT
END:VEVENT
BEGIN:VEVENT
DTSTART;TZID=UTC:20240216T150000
DTEND;TZID=UTC:20240216T170000
DTSTAMP:20260424T211328
CREATED:20240204T174111Z
LAST-MODIFIED:20240204T174111Z
UID:7466-1708095600-1708102800@serdang.nadi.my
SUMMARY:Kelas ICT pelajar sekolah rendah
DESCRIPTION:
URL:https://serdang.nadi.my/event/kelas-ict-pelajar-sekolah-rendah-4/
CATEGORIES:DEFAULT
END:VEVENT
BEGIN:VEVENT
DTSTART;TZID=UTC:20240216T100000
DTEND;TZID=UTC:20240216T120000
DTSTAMP:20260424T211328
CREATED:20240204T174050Z
LAST-MODIFIED:20240204T174050Z
UID:7465-1708077600-1708084800@serdang.nadi.my
SUMMARY:Kelas ICT pelajar sekolah rendah
DESCRIPTION:
URL:https://serdang.nadi.my/event/kelas-ict-pelajar-sekolah-rendah-3/
CATEGORIES:DEFAULT
END:VEVENT
BEGIN:VEVENT
DTSTART;TZID=UTC:20240206T100000
DTEND;TZID=UTC:20240206T120000
DTSTAMP:20260424T211328
CREATED:20240204T175408Z
LAST-MODIFIED:20240204T175408Z
UID:7474-1707213600-1707220800@serdang.nadi.my
SUMMARY:TOT AI (Pengurus & Pen Pengurus)
DESCRIPTION:
URL:https://serdang.nadi.my/event/tot-ai-pengurus-pen-pengurus/
CATEGORIES:DEFAULT
END:VEVENT
BEGIN:VEVENT
DTSTART;TZID=UTC:20240205T150000
DTEND;TZID=UTC:20240205T170000
DTSTAMP:20260424T211328
CREATED:20240204T174001Z
LAST-MODIFIED:20240204T174001Z
UID:7464-1707145200-1707152400@serdang.nadi.my
SUMMARY:Advokasi Klik Dengan Bijak (KDB) SK Jalan Selama
DESCRIPTION:
URL:https://serdang.nadi.my/event/advokasi-klik-dengan-bijak-kdb-sk-jalan-selama/
CATEGORIES:DEFAULT
END:VEVENT
BEGIN:VEVENT
DTSTART;TZID=UTC:20240203T100000
DTEND;TZID=UTC:20240203T120000
DTSTAMP:20260424T211328
CREATED:20240204T173901Z
LAST-MODIFIED:20240204T173901Z
UID:7463-1706954400-1706961600@serdang.nadi.my
SUMMARY:Kelas ICT pelajar sekolah menengah
DESCRIPTION:
URL:https://serdang.nadi.my/event/kelas-ict-pelajar-sekolah-menengah/
CATEGORIES:DEFAULT
END:VEVENT
BEGIN:VEVENT
DTSTART;TZID=UTC:20240202T150000
DTEND;TZID=UTC:20240202T170000
DTSTAMP:20260424T211328
CREATED:20240204T173625Z
LAST-MODIFIED:20240204T173625Z
UID:7460-1706886000-1706893200@serdang.nadi.my
SUMMARY:Kelas ICT pelajar sekolah rendah
DESCRIPTION:
URL:https://serdang.nadi.my/event/kelas-ict-pelajar-sekolah-rendah-2/
CATEGORIES:DEFAULT
END:VEVENT
BEGIN:VEVENT
DTSTART;TZID=UTC:20240202T100000
DTEND;TZID=UTC:20240202T120000
DTSTAMP:20260424T211328
CREATED:20240204T173449Z
LAST-MODIFIED:20240204T173449Z
UID:7459-1706868000-1706875200@serdang.nadi.my
SUMMARY:Kelas ICT pelajar sekolah rendah
DESCRIPTION:
URL:https://serdang.nadi.my/event/kelas-ict-pelajar-sekolah-rendah/
CATEGORIES:DEFAULT
END:VEVENT
BEGIN:VEVENT
DTSTART;TZID=UTC:20240202T090000
DTEND;TZID=UTC:20240202T170000
DTSTAMP:20260424T211328
CREATED:20240204T173735Z
LAST-MODIFIED:20240204T173735Z
UID:7461-1706864400-1706893200@serdang.nadi.my
SUMMARY:Training Pembukaan (Pengurus & Pen Pengurus  PEDi)
DESCRIPTION:
URL:https://serdang.nadi.my/event/training-pembukaan-pengurus-pen-pengurus-pedi/
CATEGORIES:DEFAULT
END:VEVENT
END:VCALENDAR