BEGIN:VCALENDAR
VERSION:2.0
PRODID:-//NADI Serdang - ECPv6.15.20//NONSGML v1.0//EN
CALSCALE:GREGORIAN
METHOD:PUBLISH
X-WR-CALNAME:NADI Serdang
X-ORIGINAL-URL:https://serdang.nadi.my
X-WR-CALDESC:Events for NADI Serdang
REFRESH-INTERVAL;VALUE=DURATION:PT1H
X-Robots-Tag:noindex
X-PUBLISHED-TTL:PT1H
BEGIN:VTIMEZONE
TZID:Asia/Kuala_Lumpur
BEGIN:STANDARD
TZOFFSETFROM:+0800
TZOFFSETTO:+0800
TZNAME:+08
DTSTART:20240101T000000
END:STANDARD
END:VTIMEZONE
BEGIN:VTIMEZONE
TZID:UTC
BEGIN:STANDARD
TZOFFSETFROM:+0000
TZOFFSETTO:+0000
TZNAME:UTC
DTSTART:20230101T000000
END:STANDARD
END:VTIMEZONE
BEGIN:VTIMEZONE
TZID:UTC
BEGIN:STANDARD
TZOFFSETFROM:+0000
TZOFFSETTO:+0000
TZNAME:UTC
DTSTART:20230101T000000
END:STANDARD
END:VTIMEZONE
BEGIN:VEVENT
DTSTART;TZID=Asia/Kuala_Lumpur:20250313T093000
DTEND;TZID=Asia/Kuala_Lumpur:20250313T110000
DTSTAMP:20260423T202611
CREATED:20250309T042623Z
LAST-MODIFIED:20250309T042623Z
UID:8393-1741858200-1741863600@serdang.nadi.my
SUMMARY:NADI MAHIR : MAHIR JAHIT
DESCRIPTION:
URL:https://serdang.nadi.my/event/nadi-mahir-mahir-jahit-2/
END:VEVENT
BEGIN:VEVENT
DTSTART;TZID=Asia/Kuala_Lumpur:20250312T093000
DTEND;TZID=Asia/Kuala_Lumpur:20250312T113000
DTSTAMP:20260423T202611
CREATED:20250309T042212Z
LAST-MODIFIED:20250309T042212Z
UID:8385-1741771800-1741779000@serdang.nadi.my
SUMMARY:NADI MAHIR : MAHIR PERTANIAN PINTAR
DESCRIPTION:
URL:https://serdang.nadi.my/event/nadi-mahir-mahir-pertanian-pintar/
END:VEVENT
BEGIN:VEVENT
DTSTART;TZID=Asia/Kuala_Lumpur:20250311T153000
DTEND;TZID=Asia/Kuala_Lumpur:20250311T163000
DTSTAMP:20260423T202611
CREATED:20250309T041600Z
LAST-MODIFIED:20250309T041600Z
UID:8376-1741707000-1741710600@serdang.nadi.my
SUMMARY:DILEA : LIVE CLASS SEJARAH TINGKATAN 4
DESCRIPTION:
URL:https://serdang.nadi.my/event/dilea-live-class-sejarah-tingkatan-4/
END:VEVENT
BEGIN:VEVENT
DTSTART;TZID=Asia/Kuala_Lumpur:20250311T093000
DTEND;TZID=Asia/Kuala_Lumpur:20250311T113000
DTSTAMP:20260423T202611
CREATED:20250309T042035Z
LAST-MODIFIED:20250309T042035Z
UID:8381-1741685400-1741692600@serdang.nadi.my
SUMMARY:NADI MAHIR : MAHIR BAIKI GADJET
DESCRIPTION:
URL:https://serdang.nadi.my/event/nadi-mahir-mahir-baiki-gadjet/
END:VEVENT
BEGIN:VEVENT
DTSTART;TZID=Asia/Kuala_Lumpur:20250310T153000
DTEND;TZID=Asia/Kuala_Lumpur:20250310T163000
DTSTAMP:20260423T202611
CREATED:20250309T041506Z
LAST-MODIFIED:20250309T041506Z
UID:8374-1741620600-1741624200@serdang.nadi.my
SUMMARY:DILEA : LIVE CLASS BAHASA MELAYU TINGKATAN 4
DESCRIPTION:
URL:https://serdang.nadi.my/event/dilea-live-class-bahasa-melayu-tingkatan-4/
END:VEVENT
BEGIN:VEVENT
DTSTART;TZID=Asia/Kuala_Lumpur:20250309T153000
DTEND;TZID=Asia/Kuala_Lumpur:20250309T163000
DTSTAMP:20260423T202611
CREATED:20250309T035403Z
LAST-MODIFIED:20250309T035403Z
UID:8372-1741534200-1741537800@serdang.nadi.my
SUMMARY:DILEA : LIVE CLASS MATEMATIK TINGKATAN 4
DESCRIPTION:
URL:https://serdang.nadi.my/event/dilea-live-class-matematik-tingkatan-4/
END:VEVENT
BEGIN:VEVENT
DTSTART;TZID=Asia/Kuala_Lumpur:20250309T143000
DTEND;TZID=Asia/Kuala_Lumpur:20250309T163000
DTSTAMP:20260423T202611
CREATED:20250309T035017Z
LAST-MODIFIED:20250309T035017Z
UID:8370-1741530600-1741537800@serdang.nadi.my
SUMMARY:Latihan ICT : Asas Pengenalan Komputer
DESCRIPTION:
URL:https://serdang.nadi.my/event/latihan-ict-asas-pengenalan-komputer/
END:VEVENT
BEGIN:VEVENT
DTSTART;TZID=Asia/Kuala_Lumpur:20250309T140000
DTEND;TZID=Asia/Kuala_Lumpur:20250309T153000
DTSTAMP:20260423T202611
CREATED:20250309T034751Z
LAST-MODIFIED:20250309T034751Z
UID:8368-1741528800-1741534200@serdang.nadi.my
SUMMARY:Kelas Live Mahir Foto
DESCRIPTION:
URL:https://serdang.nadi.my/event/kelas-live-mahir-foto/
END:VEVENT
BEGIN:VEVENT
DTSTART;TZID=Asia/Kuala_Lumpur:20250222T150000
DTEND;TZID=Asia/Kuala_Lumpur:20250222T160000
DTSTAMP:20260423T202611
CREATED:20250217T090729Z
LAST-MODIFIED:20250217T090729Z
UID:8314-1740236400-1740240000@serdang.nadi.my
SUMMARY:Seminar Motivasi Pelajar
DESCRIPTION:
URL:https://serdang.nadi.my/event/seminar-motivasi-pelajar/
END:VEVENT
BEGIN:VEVENT
DTSTART;TZID=Asia/Kuala_Lumpur:20250221T150000
DTEND;TZID=Asia/Kuala_Lumpur:20250221T160000
DTSTAMP:20260423T202611
CREATED:20250217T090325Z
LAST-MODIFIED:20250217T090325Z
UID:8306-1740150000-1740153600@serdang.nadi.my
SUMMARY:Mahir Jahit
DESCRIPTION:
URL:https://serdang.nadi.my/event/mahir-jahit-2/
END:VEVENT
BEGIN:VEVENT
DTSTART;TZID=Asia/Kuala_Lumpur:20250221T100000
DTEND;TZID=Asia/Kuala_Lumpur:20250222T120000
DTSTAMP:20260423T202611
CREATED:20250217T090414Z
LAST-MODIFIED:20250217T090414Z
UID:8308-1740132000-1740225600@serdang.nadi.my
SUMMARY:Kelas ICT Microsoft Office Word
DESCRIPTION:
URL:https://serdang.nadi.my/event/kelas-ict-microsoft-office-word-3/
END:VEVENT
BEGIN:VEVENT
DTSTART;TZID=Asia/Kuala_Lumpur:20250220T110000
DTEND;TZID=Asia/Kuala_Lumpur:20250220T120000
DTSTAMP:20260423T202611
CREATED:20250217T090232Z
LAST-MODIFIED:20250217T090232Z
UID:8304-1740049200-1740052800@serdang.nadi.my
SUMMARY:Mahir Jahit
DESCRIPTION:
URL:https://serdang.nadi.my/event/mahir-jahit/
END:VEVENT
BEGIN:VEVENT
DTSTART;TZID=Asia/Kuala_Lumpur:20250219T110000
DTEND;TZID=Asia/Kuala_Lumpur:20250219T120000
DTSTAMP:20260423T202611
CREATED:20250217T090141Z
LAST-MODIFIED:20250217T090141Z
UID:8302-1739962800-1739966400@serdang.nadi.my
SUMMARY:Mahir Pertanian Pintar
DESCRIPTION:
URL:https://serdang.nadi.my/event/mahir-pertanian-pintar/
END:VEVENT
BEGIN:VEVENT
DTSTART;TZID=Asia/Kuala_Lumpur:20250218T103000
DTEND;TZID=Asia/Kuala_Lumpur:20250218T123000
DTSTAMP:20260423T202611
CREATED:20250217T090042Z
LAST-MODIFIED:20250217T090042Z
UID:8300-1739874600-1739881800@serdang.nadi.my
SUMMARY:Kelas ICT Canva
DESCRIPTION:
URL:https://serdang.nadi.my/event/kelas-ict-canva-2/
END:VEVENT
BEGIN:VEVENT
DTSTART;TZID=Asia/Kuala_Lumpur:20250218T093000
DTEND;TZID=Asia/Kuala_Lumpur:20250218T103000
DTSTAMP:20260423T202611
CREATED:20250217T085950Z
LAST-MODIFIED:20250217T085950Z
UID:8298-1739871000-1739874600@serdang.nadi.my
SUMMARY:Mahir Baiki Gadjet (kump 3)
DESCRIPTION:
URL:https://serdang.nadi.my/event/mahir-baiki-gadjet-kump-3/
END:VEVENT
BEGIN:VEVENT
DTSTART;TZID=Asia/Kuala_Lumpur:20250218T090000
DTEND;TZID=Asia/Kuala_Lumpur:20250218T120000
DTSTAMP:20260423T202611
CREATED:20250217T090558Z
LAST-MODIFIED:20250217T090558Z
UID:8311-1739869200-1739880000@serdang.nadi.my
SUMMARY:Webinar eKelas Usahawan
DESCRIPTION:
URL:https://serdang.nadi.my/event/webinar-ekelas-usahawan/
END:VEVENT
BEGIN:VEVENT
DTSTART;TZID=UTC:20250109T083000
DTEND;TZID=UTC:20250109T230000
DTSTAMP:20260423T202611
CREATED:20250102T000631Z
LAST-MODIFIED:20250102T000832Z
UID:8004-1736411400-1736463600@serdang.nadi.my
SUMMARY:PROGRAM KESELAMATAN SIBER (SMK SERDANG BARU)
DESCRIPTION:
URL:https://serdang.nadi.my/event/nadi-mahir-gadjet-4/
END:VEVENT
BEGIN:VEVENT
DTSTART;TZID=UTC:20250108T110000
DTEND;TZID=UTC:20250108T120000
DTSTAMP:20260423T202611
CREATED:20250101T224544Z
LAST-MODIFIED:20250101T224624Z
UID:8001-1736334000-1736337600@serdang.nadi.my
SUMMARY:NADI MAHIR PERTANIAN PINTAR
DESCRIPTION:
URL:https://serdang.nadi.my/event/nadi-mahir-gadjet-3/
END:VEVENT
BEGIN:VEVENT
DTSTART;TZID=UTC:20250106T150000
DTEND;TZID=UTC:20250106T170000
DTSTAMP:20260423T202611
CREATED:20250101T224446Z
LAST-MODIFIED:20250101T224446Z
UID:7999-1736175600-1736182800@serdang.nadi.my
SUMMARY:CANVA 101
DESCRIPTION:
URL:https://serdang.nadi.my/event/canva-101/
END:VEVENT
BEGIN:VEVENT
DTSTART;TZID=UTC:20250103T100000
DTEND;TZID=UTC:20250104T120000
DTSTAMP:20260423T202611
CREATED:20250101T223954Z
LAST-MODIFIED:20250101T223954Z
UID:7997-1735898400-1735992000@serdang.nadi.my
SUMMARY:KELAS LATIHAN ICT
DESCRIPTION:Kelas latihan ICT microsoft office word pelajar sekolah menengah
URL:https://serdang.nadi.my/event/kelas-latihan-ict-3/
END:VEVENT
BEGIN:VEVENT
DTSTART;TZID=UTC:20241220T100000
DTEND;TZID=UTC:20241221T120000
DTSTAMP:20260423T202611
CREATED:20241214T183455Z
LAST-MODIFIED:20241214T183455Z
UID:7980-1734688800-1734782400@serdang.nadi.my
SUMMARY:KELAS ICT MICROSOFT OFFICE
DESCRIPTION:
URL:https://serdang.nadi.my/event/kelas-ict-microsoft-office-2/
END:VEVENT
BEGIN:VEVENT
DTSTART;TZID=UTC:20241219T150000
DTEND;TZID=UTC:20241219T170000
DTSTAMP:20260423T202611
CREATED:20241214T183345Z
LAST-MODIFIED:20241214T183345Z
UID:7978-1734620400-1734627600@serdang.nadi.my
SUMMARY:KELAS ICT MICROSOFT OFFICE WORD
DESCRIPTION:
URL:https://serdang.nadi.my/event/kelas-ict-microsoft-office-word-2/
END:VEVENT
BEGIN:VEVENT
DTSTART;TZID=UTC:20241219T143000
DTEND;TZID=UTC:20241219T153000
DTSTAMP:20260423T202611
CREATED:20241214T183308Z
LAST-MODIFIED:20241214T183308Z
UID:7976-1734618600-1734622200@serdang.nadi.my
SUMMARY:NADI MAHIR GADJET
DESCRIPTION:
URL:https://serdang.nadi.my/event/nadi-mahir-gadjet-2/
END:VEVENT
BEGIN:VEVENT
DTSTART;TZID=UTC:20241217T093000
DTEND;TZID=UTC:20241217T103000
DTSTAMP:20260423T202611
CREATED:20241214T183143Z
LAST-MODIFIED:20241214T183143Z
UID:7974-1734427800-1734431400@serdang.nadi.my
SUMMARY:NADI MAHIR GADJET
DESCRIPTION:
URL:https://serdang.nadi.my/event/nadi-mahir-gadjet/
END:VEVENT
BEGIN:VEVENT
DTSTART;TZID=UTC:20241216T150000
DTEND;TZID=UTC:20241216T170000
DTSTAMP:20260423T202611
CREATED:20241214T182935Z
LAST-MODIFIED:20241214T182935Z
UID:7972-1734361200-1734368400@serdang.nadi.my
SUMMARY:KELAS CANVA 101
DESCRIPTION:
URL:https://serdang.nadi.my/event/kelas-canva-101/
END:VEVENT
BEGIN:VEVENT
DTSTART;TZID=UTC:20241215T160000
DTEND;TZID=UTC:20241215T170000
DTSTAMP:20260423T202611
CREATED:20241214T182857Z
LAST-MODIFIED:20241214T182857Z
UID:7970-1734278400-1734282000@serdang.nadi.my
SUMMARY:NADI MAHIR FOTO
DESCRIPTION:
URL:https://serdang.nadi.my/event/nadi-mahir-foto-2/
END:VEVENT
BEGIN:VEVENT
DTSTART;TZID=UTC:20241215T090000
DTEND;TZID=UTC:20241215T120000
DTSTAMP:20260423T202611
CREATED:20241214T182809Z
LAST-MODIFIED:20241214T182809Z
UID:7968-1734253200-1734264000@serdang.nadi.my
SUMMARY:KURSUS PENGENDALIAN MAKANAN ONLINE
DESCRIPTION:
URL:https://serdang.nadi.my/event/kursus-pengendalian-makanan-online/
END:VEVENT
BEGIN:VEVENT
DTSTART;TZID=UTC:20241201T040000
DTEND;TZID=UTC:20241201T170000
DTSTAMP:20260423T202611
CREATED:20241211T235142Z
LAST-MODIFIED:20241211T235142Z
UID:7965-1733025600-1733072400@serdang.nadi.my
SUMMARY:NADI MAHIR FOTO
DESCRIPTION:
URL:https://serdang.nadi.my/event/nadi-mahir-foto/
END:VEVENT
BEGIN:VEVENT
DTSTART;TZID=UTC:20241129T150000
DTEND;TZID=UTC:20241130T170000
DTSTAMP:20260423T202611
CREATED:20241106T173831Z
LAST-MODIFIED:20241106T173831Z
UID:7963-1732892400-1732986000@serdang.nadi.my
SUMMARY:Latihan ICT Microsoft Office
DESCRIPTION:
URL:https://serdang.nadi.my/event/latihan-ict-microsoft-office-10/
CATEGORIES:DEFAULT
END:VEVENT
BEGIN:VEVENT
DTSTART;TZID=UTC:20241125T150000
DTEND;TZID=UTC:20241125T170000
DTSTAMP:20260423T202611
CREATED:20241106T173753Z
LAST-MODIFIED:20241106T173753Z
UID:7962-1732546800-1732554000@serdang.nadi.my
SUMMARY:ICT STEM
DESCRIPTION:
URL:https://serdang.nadi.my/event/ict-stem-3/
CATEGORIES:DEFAULT
END:VEVENT
END:VCALENDAR