BEGIN:VCALENDAR
VERSION:2.0
PRODID:-//NADI Serdang - ECPv6.15.20//NONSGML v1.0//EN
CALSCALE:GREGORIAN
METHOD:PUBLISH
X-WR-CALNAME:NADI Serdang
X-ORIGINAL-URL:https://serdang.nadi.my
X-WR-CALDESC:Events for NADI Serdang
REFRESH-INTERVAL;VALUE=DURATION:PT1H
X-Robots-Tag:noindex
X-PUBLISHED-TTL:PT1H
BEGIN:VTIMEZONE
TZID:UTC
BEGIN:STANDARD
TZOFFSETFROM:+0000
TZOFFSETTO:+0000
TZNAME:UTC
DTSTART:20230101T000000
END:STANDARD
END:VTIMEZONE
BEGIN:VEVENT
DTSTART;TZID=UTC:20241129T150000
DTEND;TZID=UTC:20241130T170000
DTSTAMP:20260424T165054
CREATED:20241106T173831Z
LAST-MODIFIED:20241106T173831Z
UID:7963-1732892400-1732986000@serdang.nadi.my
SUMMARY:Latihan ICT Microsoft Office
DESCRIPTION:
URL:https://serdang.nadi.my/event/latihan-ict-microsoft-office-10/
CATEGORIES:DEFAULT
END:VEVENT
BEGIN:VEVENT
DTSTART;TZID=UTC:20241125T150000
DTEND;TZID=UTC:20241125T170000
DTSTAMP:20260424T165054
CREATED:20241106T173753Z
LAST-MODIFIED:20241106T173753Z
UID:7962-1732546800-1732554000@serdang.nadi.my
SUMMARY:ICT STEM
DESCRIPTION:
URL:https://serdang.nadi.my/event/ict-stem-3/
CATEGORIES:DEFAULT
END:VEVENT
BEGIN:VEVENT
DTSTART;TZID=UTC:20241123T080000
DTEND;TZID=UTC:20241124T170000
DTSTAMP:20260424T165054
CREATED:20241106T173726Z
LAST-MODIFIED:20241106T173726Z
UID:7961-1732348800-1732467600@serdang.nadi.my
SUMMARY:Program Business 101 Di Kolej Komuniti Bandar Baharu
DESCRIPTION:
URL:https://serdang.nadi.my/event/program-business-101-di-kolej-komuniti-bandar-baharu/
CATEGORIES:DEFAULT
END:VEVENT
BEGIN:VEVENT
DTSTART;TZID=UTC:20241121T140000
DTEND;TZID=UTC:20241121T170000
DTSTAMP:20260424T165054
CREATED:20241106T173454Z
LAST-MODIFIED:20241106T173454Z
UID:7960-1732197600-1732208400@serdang.nadi.my
SUMMARY:Klik Dengan Bijak
DESCRIPTION:
URL:https://serdang.nadi.my/event/klik-dengan-bijak-2/
CATEGORIES:DEFAULT
END:VEVENT
BEGIN:VEVENT
DTSTART;TZID=UTC:20241118T150000
DTEND;TZID=UTC:20241118T170000
DTSTAMP:20260424T165054
CREATED:20241106T173407Z
LAST-MODIFIED:20241106T173407Z
UID:7959-1731942000-1731949200@serdang.nadi.my
SUMMARY:AI untuk Rakyat
DESCRIPTION:
URL:https://serdang.nadi.my/event/ai-untuk-rakyat-2/
CATEGORIES:DEFAULT
END:VEVENT
BEGIN:VEVENT
DTSTART;TZID=UTC:20241115T100000
DTEND;TZID=UTC:20241116T120000
DTSTAMP:20260424T165054
CREATED:20241106T173341Z
LAST-MODIFIED:20241106T173341Z
UID:7958-1731664800-1731758400@serdang.nadi.my
SUMMARY:Latihan ICT Microsoft Office
DESCRIPTION:
URL:https://serdang.nadi.my/event/latihan-ict-microsoft-office-9/
CATEGORIES:DEFAULT
END:VEVENT
BEGIN:VEVENT
DTSTART;TZID=UTC:20241114T080000
DTEND;TZID=UTC:20241114T130000
DTSTAMP:20260424T165054
CREATED:20241106T173310Z
LAST-MODIFIED:20241106T173310Z
UID:7957-1731571200-1731589200@serdang.nadi.my
SUMMARY:Klik Dengan Bijak Di SMK Ahmad Tajuddin
DESCRIPTION:
URL:https://serdang.nadi.my/event/klik-dengan-bijak-di-smk-ahmad-tajuddin/
CATEGORIES:DEFAULT
END:VEVENT
BEGIN:VEVENT
DTSTART;TZID=UTC:20241108T100000
DTEND;TZID=UTC:20241109T120000
DTSTAMP:20260424T165054
CREATED:20241106T173232Z
LAST-MODIFIED:20241106T173232Z
UID:7956-1731060000-1731153600@serdang.nadi.my
SUMMARY:Latihan ICT Microsoft Office
DESCRIPTION:
URL:https://serdang.nadi.my/event/latihan-ict-microsoft-office-8/
CATEGORIES:DEFAULT
END:VEVENT
BEGIN:VEVENT
DTSTART;TZID=UTC:20241105T150000
DTEND;TZID=UTC:20241105T170000
DTSTAMP:20260424T165054
CREATED:20241106T173202Z
LAST-MODIFIED:20241106T173202Z
UID:7955-1730818800-1730826000@serdang.nadi.my
SUMMARY:Canva : Design like a PRO
DESCRIPTION:
URL:https://serdang.nadi.my/event/canva-design-like-a-pro-2/
CATEGORIES:DEFAULT
END:VEVENT
BEGIN:VEVENT
DTSTART;TZID=UTC:20241101T150000
DTEND;TZID=UTC:20241102T170000
DTSTAMP:20260424T165054
CREATED:20241106T173130Z
LAST-MODIFIED:20241106T173130Z
UID:7954-1730473200-1730566800@serdang.nadi.my
SUMMARY:Latihan ICT Microsoft Office
DESCRIPTION:
URL:https://serdang.nadi.my/event/latihan-ict-microsoft-office-7/
CATEGORIES:DEFAULT
END:VEVENT
BEGIN:VEVENT
DTSTART;TZID=UTC:20241005T150000
DTEND;TZID=UTC:20241005T170000
DTSTAMP:20260424T165054
CREATED:20241002T233854Z
LAST-MODIFIED:20241002T233854Z
UID:7953-1728140400-1728147600@serdang.nadi.my
SUMMARY:canva 101 : Flyers
DESCRIPTION:
URL:https://serdang.nadi.my/event/canva-101-flyers/
CATEGORIES:DEFAULT
END:VEVENT
BEGIN:VEVENT
DTSTART;TZID=UTC:20241004T150000
DTEND;TZID=UTC:20241004T170000
DTSTAMP:20260424T165054
CREATED:20241002T200321Z
LAST-MODIFIED:20241002T200321Z
UID:7952-1728054000-1728061200@serdang.nadi.my
SUMMARY:Kelas ICT MIcrosoft Office Word
DESCRIPTION:
URL:https://serdang.nadi.my/event/kelas-ict-microsoft-office-word/
CATEGORIES:DEFAULT
END:VEVENT
BEGIN:VEVENT
DTSTART;TZID=UTC:20241003T093000
DTEND;TZID=UTC:20241003T113000
DTSTAMP:20260424T165054
CREATED:20241002T200220Z
LAST-MODIFIED:20241002T200220Z
UID:7951-1727947800-1727955000@serdang.nadi.my
SUMMARY:Kelas ICT Microsoft Office Excel
DESCRIPTION:
URL:https://serdang.nadi.my/event/kelas-ict-microsoft-office-excel/
CATEGORIES:DEFAULT
END:VEVENT
BEGIN:VEVENT
DTSTART;TZID=UTC:20240930T150000
DTEND;TZID=UTC:20240930T170000
DTSTAMP:20260424T165054
CREATED:20240906T231825Z
LAST-MODIFIED:20240906T231825Z
UID:7950-1727708400-1727715600@serdang.nadi.my
SUMMARY:Latihan Keusahawanan (tiktok)
DESCRIPTION:
URL:https://serdang.nadi.my/event/latihan-keusahawanan-tiktok/
CATEGORIES:DEFAULT
END:VEVENT
BEGIN:VEVENT
DTSTART;TZID=UTC:20240927T150000
DTEND;TZID=UTC:20240927T170000
DTSTAMP:20260424T165054
CREATED:20240906T231745Z
LAST-MODIFIED:20240906T231745Z
UID:7949-1727449200-1727456400@serdang.nadi.my
SUMMARY:Chat GPT 101 & Copilot
DESCRIPTION:
URL:https://serdang.nadi.my/event/chat-gpt-101-copilot/
CATEGORIES:DEFAULT
END:VEVENT
BEGIN:VEVENT
DTSTART;TZID=UTC:20240926T030000
DTEND;TZID=UTC:20240926T170000
DTSTAMP:20260424T165054
CREATED:20240906T231704Z
LAST-MODIFIED:20240906T231704Z
UID:7948-1727319600-1727370000@serdang.nadi.my
SUMMARY:Latihan ICT Microsoft Office Excel
DESCRIPTION:
URL:https://serdang.nadi.my/event/latihan-ict-microsoft-office-excel-5/
CATEGORIES:DEFAULT
END:VEVENT
BEGIN:VEVENT
DTSTART;TZID=UTC:20240921T100000
DTEND;TZID=UTC:20240921T120000
DTSTAMP:20260424T165054
CREATED:20240906T231402Z
LAST-MODIFIED:20240906T231402Z
UID:7947-1726912800-1726920000@serdang.nadi.my
SUMMARY:Canva 101 - Latihan Keusahawan (Kad Perniagaan)
DESCRIPTION:
URL:https://serdang.nadi.my/event/canva-101-latihan-keusahawan-kad-perniagaan/
CATEGORIES:DEFAULT
END:VEVENT
BEGIN:VEVENT
DTSTART;TZID=UTC:20240920T100000
DTEND;TZID=UTC:20240920T120000
DTSTAMP:20260424T165054
CREATED:20240906T231249Z
LAST-MODIFIED:20240906T231249Z
UID:7946-1726826400-1726833600@serdang.nadi.my
SUMMARY:Latihan ICT Microsoft Office Powerpoint
DESCRIPTION:
URL:https://serdang.nadi.my/event/latihan-ict-microsoft-office-powerpoint-2/
CATEGORIES:DEFAULT
END:VEVENT
BEGIN:VEVENT
DTSTART;TZID=UTC:20240916T100000
DTEND;TZID=UTC:20240916T120000
DTSTAMP:20260424T165054
CREATED:20240906T231149Z
LAST-MODIFIED:20240906T231149Z
UID:7945-1726480800-1726488000@serdang.nadi.my
SUMMARY:Latihan ICT Microsoft Office Excel
DESCRIPTION:
URL:https://serdang.nadi.my/event/latihan-ict-microsoft-office-excel-4/
CATEGORIES:DEFAULT
END:VEVENT
BEGIN:VEVENT
DTSTART;TZID=UTC:20240914T100000
DTEND;TZID=UTC:20240914T120000
DTSTAMP:20260424T165054
CREATED:20240906T230746Z
LAST-MODIFIED:20240906T230746Z
UID:7942-1726308000-1726315200@serdang.nadi.my
SUMMARY:Canva 101 - Flayer Maker
DESCRIPTION:
URL:https://serdang.nadi.my/event/canva-101-flayer-maker/
CATEGORIES:DEFAULT
END:VEVENT
BEGIN:VEVENT
DTSTART;TZID=UTC:20240913T100000
DTEND;TZID=UTC:20240913T120000
DTSTAMP:20260424T165054
CREATED:20240906T231020Z
LAST-MODIFIED:20240906T231020Z
UID:7944-1726221600-1726228800@serdang.nadi.my
SUMMARY:Latihan ICT Microsoft Office Powerpoint
DESCRIPTION:
URL:https://serdang.nadi.my/event/latihan-ict-microsoft-office-powerpoint/
CATEGORIES:DEFAULT
END:VEVENT
BEGIN:VEVENT
DTSTART;TZID=UTC:20240912T150000
DTEND;TZID=UTC:20240912T170000
DTSTAMP:20260424T165054
CREATED:20240906T230434Z
LAST-MODIFIED:20240906T230434Z
UID:7941-1726153200-1726160400@serdang.nadi.my
SUMMARY:Canva 101 - Poster
DESCRIPTION:
URL:https://serdang.nadi.my/event/canva-101-poster/
CATEGORIES:DEFAULT
END:VEVENT
BEGIN:VEVENT
DTSTART;TZID=UTC:20240909T150000
DTEND;TZID=UTC:20240909T170000
DTSTAMP:20260424T165054
CREATED:20240906T230916Z
LAST-MODIFIED:20240906T230916Z
UID:7943-1725894000-1725901200@serdang.nadi.my
SUMMARY:kelas keusahawanan Tiktok
DESCRIPTION:
URL:https://serdang.nadi.my/event/kelas-keusahawanan-tiktok/
CATEGORIES:DEFAULT
END:VEVENT
BEGIN:VEVENT
DTSTART;TZID=UTC:20240909T100000
DTEND;TZID=UTC:20240909T120000
DTSTAMP:20260424T165054
CREATED:20240906T230347Z
LAST-MODIFIED:20240906T230347Z
UID:7940-1725876000-1725883200@serdang.nadi.my
SUMMARY:Latihan ICT Microsoft Office Excel
DESCRIPTION:
URL:https://serdang.nadi.my/event/latihan-ict-microsoft-office-excel-3/
CATEGORIES:DEFAULT
END:VEVENT
BEGIN:VEVENT
DTSTART;TZID=UTC:20240907T100000
DTEND;TZID=UTC:20240907T120000
DTSTAMP:20260424T165054
CREATED:20240906T230320Z
LAST-MODIFIED:20240906T230320Z
UID:7939-1725703200-1725710400@serdang.nadi.my
SUMMARY:Canva 101 - Poster (Promotion)
DESCRIPTION:
URL:https://serdang.nadi.my/event/canva-101-poster-promotion/
CATEGORIES:DEFAULT
END:VEVENT
BEGIN:VEVENT
DTSTART;TZID=UTC:20240905T150000
DTEND;TZID=UTC:20240905T170000
DTSTAMP:20260424T165054
CREATED:20240906T230239Z
LAST-MODIFIED:20240906T230239Z
UID:7938-1725548400-1725555600@serdang.nadi.my
SUMMARY:Canva 101 - Presentation (My self)
DESCRIPTION:
URL:https://serdang.nadi.my/event/canva-101-presentation-my-self/
CATEGORIES:DEFAULT
END:VEVENT
BEGIN:VEVENT
DTSTART;TZID=UTC:20240902T100000
DTEND;TZID=UTC:20240903T120000
DTSTAMP:20260424T165054
CREATED:20240906T230119Z
LAST-MODIFIED:20240906T230119Z
UID:7937-1725271200-1725364800@serdang.nadi.my
SUMMARY:Latihan ICT Microsoft Office Excel
DESCRIPTION:
URL:https://serdang.nadi.my/event/latihan-ict-microsoft-office-excel-2/
CATEGORIES:DEFAULT
END:VEVENT
BEGIN:VEVENT
DTSTART;TZID=UTC:20240821T100000
DTEND;TZID=UTC:20240823T120000
DTSTAMP:20260424T165054
CREATED:20240805T233914Z
LAST-MODIFIED:20240805T233914Z
UID:7534-1724234400-1724414400@serdang.nadi.my
SUMMARY:Latihan ICT Microsoft Office
DESCRIPTION:
URL:https://serdang.nadi.my/event/latihan-ict-microsoft-office-6/
CATEGORIES:DEFAULT
END:VEVENT
BEGIN:VEVENT
DTSTART;TZID=UTC:20240820T150000
DTEND;TZID=UTC:20240820T170000
DTSTAMP:20260424T165054
CREATED:20240805T233845Z
LAST-MODIFIED:20240805T233845Z
UID:7533-1724166000-1724173200@serdang.nadi.my
SUMMARY:STEM 101
DESCRIPTION:
URL:https://serdang.nadi.my/event/stem-101/
CATEGORIES:DEFAULT
END:VEVENT
BEGIN:VEVENT
DTSTART;TZID=UTC:20240819T150000
DTEND;TZID=UTC:20240819T170000
DTSTAMP:20260424T165054
CREATED:20240805T233811Z
LAST-MODIFIED:20240805T233811Z
UID:7532-1724079600-1724086800@serdang.nadi.my
SUMMARY:Chat GPT 101
DESCRIPTION:
URL:https://serdang.nadi.my/event/chat-gpt-101-2/
CATEGORIES:DEFAULT
END:VEVENT
END:VCALENDAR