BEGIN:VCALENDAR
VERSION:2.0
PRODID:-//NADI Serdang - ECPv6.15.20//NONSGML v1.0//EN
CALSCALE:GREGORIAN
METHOD:PUBLISH
X-ORIGINAL-URL:https://serdang.nadi.my
X-WR-CALDESC:Events for NADI Serdang
REFRESH-INTERVAL;VALUE=DURATION:PT1H
X-Robots-Tag:noindex
X-PUBLISHED-TTL:PT1H
BEGIN:VTIMEZONE
TZID:Asia/Kuala_Lumpur
BEGIN:STANDARD
TZOFFSETFROM:+0800
TZOFFSETTO:+0800
TZNAME:+08
DTSTART:20250101T000000
END:STANDARD
END:VTIMEZONE
BEGIN:VEVENT
DTSTART;TZID=Asia/Kuala_Lumpur:20260206T140000
DTEND;TZID=Asia/Kuala_Lumpur:20260206T170000
DTSTAMP:20260419T201437
CREATED:20260206T021046Z
LAST-MODIFIED:20260206T021046Z
UID:9280-1770386400-1770397200@serdang.nadi.my
SUMMARY:NADI PRENEUR : RAKAMAN WEBINAR PEMASARAN
DESCRIPTION:
URL:https://serdang.nadi.my/event/nadi-preneur-rakaman-webinar-pemasaran/
END:VEVENT
BEGIN:VEVENT
DTSTART;TZID=Asia/Kuala_Lumpur:20260206T153000
DTEND;TZID=Asia/Kuala_Lumpur:20260206T163000
DTSTAMP:20260419T201437
CREATED:20260205T041553Z
LAST-MODIFIED:20260205T041553Z
UID:9262-1770391800-1770395400@serdang.nadi.my
SUMMARY:OPEN LIVE CLASS TUITION MATEMATIK TINGKATAN 1-5
DESCRIPTION:
URL:https://serdang.nadi.my/event/open-live-class-tuition-matematik-tingkatan-1-5-2/
END:VEVENT
END:VCALENDAR