BEGIN:VCALENDAR
VERSION:2.0
PRODID:-//NADI Serdang - ECPv6.15.20//NONSGML v1.0//EN
CALSCALE:GREGORIAN
METHOD:PUBLISH
X-ORIGINAL-URL:https://serdang.nadi.my
X-WR-CALDESC:Events for NADI Serdang
REFRESH-INTERVAL;VALUE=DURATION:PT1H
X-Robots-Tag:noindex
X-PUBLISHED-TTL:PT1H
BEGIN:VTIMEZONE
TZID:Asia/Kuala_Lumpur
BEGIN:STANDARD
TZOFFSETFROM:+0800
TZOFFSETTO:+0800
TZNAME:+08
DTSTART:20250101T000000
END:STANDARD
END:VTIMEZONE
BEGIN:VEVENT
DTSTART;TZID=Asia/Kuala_Lumpur:20260104T080000
DTEND;TZID=Asia/Kuala_Lumpur:20260104T170000
DTSTAMP:20260422T120349
CREATED:20260101T071644Z
LAST-MODIFIED:20260101T072120Z
UID:9198-1767513600-1767546000@serdang.nadi.my
SUMMARY:DILEA- REVISION VIDEO ON DEMAND
DESCRIPTION:VIDEO ON DEMAND (VOD)\nRakaman penuh Guidance Tuition\, Open Tuition & Webinar boleh diakses mengikut jadual.
URL:https://serdang.nadi.my/event/dilea-evition-video-on-demand/
END:VEVENT
BEGIN:VEVENT
DTSTART;TZID=Asia/Kuala_Lumpur:20260104T153000
DTEND;TZID=Asia/Kuala_Lumpur:20260104T163000
DTSTAMP:20260422T120349
CREATED:20260101T072757Z
LAST-MODIFIED:20260101T072757Z
UID:9212-1767540600-1767544200@serdang.nadi.my
SUMMARY:DILEA - GUIDANCE TUITION LIVE CLASS TINGKATAN 4 (MATEMATIK)
DESCRIPTION:
URL:https://serdang.nadi.my/event/dilea-guidance-tuition-live-class-tingkatan-4-matematik/
END:VEVENT
END:VCALENDAR