BEGIN:VCALENDAR
VERSION:2.0
PRODID:-//NADI Serdang - ECPv6.15.20//NONSGML v1.0//EN
CALSCALE:GREGORIAN
METHOD:PUBLISH
X-ORIGINAL-URL:https://serdang.nadi.my
X-WR-CALDESC:Events for NADI Serdang
REFRESH-INTERVAL;VALUE=DURATION:PT1H
X-Robots-Tag:noindex
X-PUBLISHED-TTL:PT1H
BEGIN:VTIMEZONE
TZID:Asia/Kuala_Lumpur
BEGIN:STANDARD
TZOFFSETFROM:+0800
TZOFFSETTO:+0800
TZNAME:+08
DTSTART:20240101T000000
END:STANDARD
END:VTIMEZONE
BEGIN:VEVENT
DTSTART;TZID=Asia/Kuala_Lumpur:20251110T153000
DTEND;TZID=Asia/Kuala_Lumpur:20251110T163000
DTSTAMP:20260425T065109
CREATED:20251110T040119Z
LAST-MODIFIED:20251110T040119Z
UID:9062-1762788600-1762792200@serdang.nadi.my
SUMMARY:OPEN LIVE CLASS SEJARAH
DESCRIPTION:
URL:https://serdang.nadi.my/event/open-live-class-sejarah/
END:VEVENT
END:VCALENDAR