BEGIN:VCALENDAR
VERSION:2.0
PRODID:-//NADI Serdang - ECPv6.15.20//NONSGML v1.0//EN
CALSCALE:GREGORIAN
METHOD:PUBLISH
X-WR-CALNAME:NADI Serdang
X-ORIGINAL-URL:https://serdang.nadi.my
X-WR-CALDESC:Events for NADI Serdang
REFRESH-INTERVAL;VALUE=DURATION:PT1H
X-Robots-Tag:noindex
X-PUBLISHED-TTL:PT1H
BEGIN:VTIMEZONE
TZID:Asia/Kuala_Lumpur
BEGIN:STANDARD
TZOFFSETFROM:+0800
TZOFFSETTO:+0800
TZNAME:+08
DTSTART:20240101T000000
END:STANDARD
END:VTIMEZONE
BEGIN:VEVENT
DTSTART;TZID=Asia/Kuala_Lumpur:20251101T090000
DTEND;TZID=Asia/Kuala_Lumpur:20251101T170000
DTSTAMP:20260423T181036
CREATED:20251101T020916Z
LAST-MODIFIED:20251101T020916Z
UID:9050-1761987600-1762016400@serdang.nadi.my
SUMMARY:E-SPORTS- STATE LEVEL TOURNAMENT : GROUP STAGE
DESCRIPTION:
URL:https://serdang.nadi.my/event/e-sports-state-level-tournament-group-stage/
END:VEVENT
END:VCALENDAR