BEGIN:VCALENDAR
VERSION:2.0
PRODID:-//NADI Serdang - ECPv6.15.20//NONSGML v1.0//EN
CALSCALE:GREGORIAN
METHOD:PUBLISH
X-ORIGINAL-URL:https://serdang.nadi.my
X-WR-CALDESC:Events for NADI Serdang
REFRESH-INTERVAL;VALUE=DURATION:PT1H
X-Robots-Tag:noindex
X-PUBLISHED-TTL:PT1H
BEGIN:VTIMEZONE
TZID:Asia/Kuala_Lumpur
BEGIN:STANDARD
TZOFFSETFROM:+0800
TZOFFSETTO:+0800
TZNAME:+08
DTSTART:20240101T000000
END:STANDARD
END:VTIMEZONE
BEGIN:VEVENT
DTSTART;TZID=Asia/Kuala_Lumpur:20251014T153000
DTEND;TZID=Asia/Kuala_Lumpur:20251014T163000
DTSTAMP:20260425T230537
CREATED:20251007T064441Z
LAST-MODIFIED:20251007T064441Z
UID:8957-1760455800-1760459400@serdang.nadi.my
SUMMARY:DILEA- OPEN LIVE CLASS TUISYEN MATEMATIK
DESCRIPTION:
URL:https://serdang.nadi.my/event/dilea-open-live-class-tuisyen-matematik/
END:VEVENT
END:VCALENDAR